Workbook

Sheet Info
B2: BDEW / VKU / GEODE - Excel-Tabelle mit verfahrensspezifischen Parameter
B4: Im Rahmen der Veröffentlichungspflichten des Netzbetreibers zum Standardlastprofilverfahren hat jeder Netzbetreiber
B5: zu seinem Profilverfahren die folgende Excel-Tabelle auf seiner Internetseite zu veröffentlichen.
B7: Die Veröffentlichung erfolgt im Rahmen der Vorgaben der Kooperationsvereinbarung und des Leitfanden "Abwicklung von Standardlastprofilen Gas".
B8: Sofern Anpassungen am Bilanzierungsverfahren vorgenommen werden, so ist die Excel-Tabelle stets in aktualisierter Form zu veröffentlichen.
B10: Hinweise:
B11: Sofern sich verfahrensspezifische Parameter für vorhandene Netzgebiete unterscheiden, bitte für jedes Netzgebiet eine separate Datei ausfüllen.
B12: Bei Netzbetreibern mit Marktgebietüberlappung sollte das SLP Verfahren in beiden Marktgebieten identisch sein.
B13: Bei Netzbetreibern mit Netzgebieten mit H-Gas und L-Gas sollten bitte für jedes Netzgebiet eine separate Datei ausfüllen.
B15: Herausgeber:
B17: BDEW Bundesverband der Energie- und Wasserwirtschaft e.V.,
B18: Reinhardtstraße 32
... B27: 10179 Berlin
B29: Stand: | C29: 42191
B30: Version: | C30: 1.0

Sheet Netzbetreiber
B2: Netzbetreiberinformationen
C4: Stand der verf.-spezif. Parameter ("Speicherdatum" der Datei): | D4: 44470
C6: verf.-spezif. Parameter dieser Datei sind gültig ab: | D6: 44470
B9: 1. | C9: Name des Netzbetreibers: | D9: Leitungspartner GmbH
B11: 2. | C11: Marktpartner-ID (DVGW-Nummer des Netzbetreibers) | D11: 9870116800003
B13: 3. | C13: Straße, Nr.: | D13: Arnoldsweilerstraße 60
B15: 4. | C15: Postleitzahl: | D15: 52351
B17: 5. | C17: Ort: | D17: Düren
B19: 6. | C19: Ansprechpartner SLP-Bilanzierung: | D19: Netznutzungsmanagement
B21: 7. | C21: Email-Adresse: | D21: datenaustausch@leitungspartner.de
B23: 8. | C23: Telefonnummer des Ansprechpartners: | D23: 02421 / 4865-779
B25: 9. | C25: Anzahl betreuter Netzgebiete (Angabe 1 … 20) | D25: 1
B27: 10. | C27: In dieser Datei erfasstes Netzgebiet (eine Datei je Netzgebiet): | D27: Netzgebiet 1
C28: Angaben gelten für alle Netzgebiete | D28: =IF(D27<>C28,VLOOKUP(D27,$C$29:$D$48,2,FALSE),C28) -> Netzgebiet Leitungspartner
C29: Netzgebiet 1 | D29: Netzgebiet Leitungspartner
C30: Netzgebiet 2
C31: Netzgebiet 3
C32: Netzgebiet 4
C33: Netzgebiet 5
C34: Netzgebiet 6
C35: Netzgebiet 7
C36: Netzgebiet 8
C37: Netzgebiet 9
C38: Netzgebiet 10
C39: Netzgebiet 11
C40: Netzgebiet 12
C41: Netzgebiet 13
... C48: Netzgebiet 20

Sheet SLP-Verfahren L-Gas
B2: Stammdaten Netzgebiet
C5: Netzbetreiber: | D5: =Netzbetreiber!$D$9 -> Leitungspartner GmbH
C6: Netzgebiet: | D6: =Netzbetreiber!D28 -> Netzgebiet Leitungspartner
C7: Marktpartner-ID: | D7: =Netzbetreiber!$D$11 -> 9870116800003
C8: gültig ab: | D8: =Netzbetreiber!$D$6 -> 44470
B11: 11. | C11: Marktgebiet: | D11: THE | H11: NCG | I11: Gaspool | J11: MGÜ (NCG/Gaspool)
B13: 12. | C13: Gasfamilie: | D13: L-Gas | H13: H-Gas | I13: L-Gas
B15: 13. | C15: Netzkontonummer THE: | D15: THE0NKL701168000
C16: Netzkontonummer Gaspool:
B18: 14. | C18: Verwendetes SLP-Verfahren: | D18: synthetisch | H18: synthetisch | I18: analytisch
C19: =HLOOKUP($D$18,$H$18:$I$20,2,0) -> => zeitnah ermittelter Netzzustand fließt nicht in Allokation ein | H19: => zeitnah ermittelter Netzzustand fließt nicht in Allokation ein | I19: => zeitnah ermittelter Netzustand bestimmt Höhe der täglichen Allokation
C20: =HLOOKUP($D$18,$H$18:$I$20,3,0) -> => Zeitreihentyp SLPsyn | H20: => Zeitreihentyp SLPsyn | I20: => Zeitreihentyp SLPana
B22: 15. | C22: Bilanzierungsrelevanter Wert | D22: Kundenwert [KW] | H22: Kundenwert [KW] | I22: Jahresverbrauchsprognose [JVP]
C23: =HLOOKUP(D22,H22:I23,2,0) -> nach TU-München Verfahren | D23: JVP / Multiplikator(SLP-Typ) | H23: nach TU-München Verfahren | I23: Berechnung der Tagesmenge mit:
C24: Allokationsfunktion für die Tagesmenge: | D24: =IF(D22=$H$22,L24,IF(D23=$H$24,M24,N24)) -> => Q(D) = KW x h(T, SLP-Typ) x F(WT) | H24: JVP / Multiplikator(SLP-Typ) | I24: JVP x h(T, SLP-Typ') | L24: => Q(D) = KW x h(T, SLP-Typ) x F(WT) | M24: => Q(D) = JVP / M(SLP-Typ) x h(T, SLP-Typ) x F(WT) | N24: => Q(D) = JVP x h(T, SLP-Typ') x F(WT)
B26: 16. | C26: Korrekturfaktor (synthetisches Verfahren): | D26: nein | H26: ja | I26: nein
C27: Art des Korrekturfaktors | D27: F(kor) = 1 | H27: F(kor) = 1 | I27: statisch | J27: dynamisch
C28: =HLOOKUP(D27,H27:J28,2,0) -> => Q(Allokation) = Q(Synth.); F(kor) = 1 | D28: 1 | H28: => Q(Allokation) = Q(Synth.); F(kor) = 1 | I28: => Q(Allokation) = Q(Synth.) × F(kor); F(kor) = | J28: => Q(Allokation) = Q(Synth.) × F(opt)
C29: =HLOOKUP(D27,H27:J29,3,0) | I29: Hinweis: Korrekturfaktoren im synthetischen Verfahren sind von der BNetzA zu genehmigen. | J29: Hinweis: dynamische Korrekturfaktoren sind tägl. als anwendungsspezif. Parameter bereitzustellen.
B31: 17. | C31: Optimierungsfaktor (analytisches Verfahren): | D31: nein | H31: ja | I31: nein
C32: =HLOOKUP(D31,$H$31:$I$32,2,0) -> => Q(Allokation) = Q(D-2); F(opt) = 1 | H32: => Q(Allokation) = Q(D-2) × F(opt) | I32: => Q(Allokation) = Q(D-2); F(opt) = 1
C33: =HLOOKUP(D31,$H$31:$I$33,3,0) | H33: Hinweis: beim Verwendung von Optimierungsfaktoren, sind tägl. anwendungsspezif. Parameter bereitzustellen.
B35: 18. | C35: Anzahl verwendeter Profile: | D35: 24
B37: 19. | C37: Anwendungsgrenzen SLP - Arbeit [kWh]: | D37: 1500000 | E37: (*)
C38: (Standard nach § 24 Abs. 1 u. 2 GasNZV: 1,5 Mio. kWh pro Jahr)
B40: 20. | C40: Anwendungsgrenzen SLP - Leistung [kW]: | D40: 500 | E40: (**)
C41: (Standard nach § 24 Abs. 1 u. 2 GasNZV: 500 kW)
C43: (*) Angabe Grenzwert oder Verweis auf Hinterlegungsquelle
C44: (**) optionale Angabe
B46: 21. | C46: Anzahl der Temperaturgebiete des NG: | D46: 1 | H46: 1 | I46: 2 | J46: 3 | K46: 4 | L46: 5 | M46: 6 | N46: 7 | O46: 8 | P46: 9 | Q46: 10 | R46: 11 | S46: 12 | T46: 13 | U46: 14 | V46: 15
H47: =IF(H46<=$D$46,H46,"") -> 1 | I47: =IF(I46<=$D$46,I46,"") | J47: =IF(J46<=$D$46,J46,"") | K47: =IF(K46<=$D$46,K46,"") | L47: =IF(L46<=$D$46,L46,"") | M47: =IF(M46<=$D$46,M46,"") | N47: =IF(N46<=$D$46,N46,"") | O47: =IF(O46<=$D$46,O46,"") | ... V47: =IF(V46<=$D$46,V46,"")
C48: SLP-Temp-Gebiet 01 | D48: Düren
C49: SLP-Temp-Gebiet 02
C50: SLP-Temp-Gebiet 03
C51: SLP-Temp-Gebiet 04
C52: SLP-Temp-Gebiet 05
C53: SLP-Temp-Gebiet 06
C54: SLP-Temp-Gebiet 07
C55: SLP-Temp-Gebiet 08
C56: SLP-Temp-Gebiet 09
C57: SLP-Temp-Gebiet 10
C58: SLP-Temp-Gebiet 11
C59: SLP-Temp-Gebiet 12
C60: SLP-Temp-Gebiet 13
... C62: SLP-Temp-Gebiet 15

Sheet SLP-Temp-Gebiet #01
B2: Bildungsregel Temperaturzeitreihe(n) - a.) Allokationstemperatur und b.) Kundenwerttemperatur
C4: Netzbetreiber: | E4: =Netzbetreiber!D9 -> Leitungspartner GmbH
C5: Netzgebiet: | E5: =Netzbetreiber!D28 -> Netzgebiet Leitungspartner
C6: Marktpartner-ID: | E6: =Netzbetreiber!D11 -> 9870116800003
C7: gültig ab: | E7: =Netzbetreiber!D6 -> 44470
H8: Hinweis:
C9: Anzahl der Temperaturgebiete des Netzgebietes: | F9: ='SLP-Verfahren L-Gas'!D46 -> 1 | H9: Bei mehreren Temperaturgebieten je Netzgebiet jeweils ein weiteres "Excel-Tabellenblatt" je
C10: Nummer des Temperaturgebietes: | F10: 1 | H10: Temperaturgebiet einfügen. Bitte SLP-Temp-Gebiet # "##" in Namen des Excel-Tabellenblattes aufnehmen.
C11: Name des Temperaturgebietes: | F11: =INDEX('SLP-Verfahren L-Gas'!D48:D62,'SLP-Temp-Gebiet #01'!F10) -> Düren
C13: Temperaturversatz (der Knickpunkt Temperatur) | F13: Tag: | G13: Monat: | H13: DTKP
C14: Heizperiode Kernzeit Winter | E14: Beginn: | F14: 15. | G14: Oktober | H14: 0 | O14: anderer Wetter-Dienstleister (falls verwendet): | R14: Januar | S14: Februar | T14: März | U14: April | V14: Mai | W14: Juni | X14: Juli | Y14: August | Z14: September | AA14: Oktober | AB14: November | AC14: Dezember
C15: Sommer-/Übergangsperiode | E15: Beginn: | F15: 1. | G15: März | H15: 0 | O15: Allokationstemperatur der Leitungspartner GmbH | R15: 1. | S15: 2. | T15: 3. | U15: 4. | V15: 5. | W15: 6. | X15: 7. | Y15: 8. | Z15: 9. | AA15: 10. | AB15: 11. | AC15: 12. | AD15: 13. | AE15: 14. | AF15: 15. | AG15: 16. | AH15: 17. | AI15: 18. | AJ15: 19. | AK15: 20. | AL15: 21. | AM15: 22. | AN15: 23. | AO15: 24. | AP15: 25. | AQ15: 26. | AR15: 27. | AS15: 28. | AT15: 29. | AU15: 30. | AV15: 31.
B17: a.) für Allokationstemperatur (auch für Misch-Allokationstempertur [virt. Wetter-Station])
C18: Anzahl Stationen für Misch-Allokationstemperatur: | F18: 1
E19: =IF(E20>$F$18,0,1) -> 1 | F19: =IF(F20>$F$18,0,1) -> 0 | G19: =IF(G20>$F$18,0,1) -> 0 | H19: =IF(H20>$F$18,0,1) -> 0 | I19: =IF(I20>$F$18,0,1) -> 0 | J19: =IF(J20>$F$18,0,1) -> 0 | K19: =IF(K20>$F$18,0,1) -> 0 | L19: =IF(L20>$F$18,0,1) -> 0 | ... N19: =IF(N20>$F$18,0,1) -> 0
C20: Temperaturstationen | D20: Sn | E20: 1 | F20: 2 | G20: 3 | H20: 4 | I20: 5 | J20: 6 | K20: 7 | L20: 8 | M20: 9 | N20: 10 | O20: Art des Feldes
C21: Gewichtungsfaktoren (Station) | D21: g(Sn) | E21: =1-SUMPRODUCT(F19:N19,F21:N21) -> 1 | F21: =ROUND(F22/$D$22,4) -> 1 | G21: =ROUND(G22/$D$22,4) -> 0 | H21: =ROUND(H22/$D$22,4) -> 0 | I21: =ROUND(I22/$D$22,4) -> 0 | J21: =ROUND(J22/$D$22,4) -> 0 | K21: =ROUND(K22/$D$22,4) -> 0 | L21: =ROUND(L22/$D$22,4) -> 0 | M21: =ROUND(M22/$D$22,4) -> 0 | N21: =ROUND(N22/$D$22,4) -> 0
C22: Gewichte (Station) G(Sn) | D22: =SUMPRODUCT(E22:N22,E19:N19) -> 1 | E22: 1 | F22: 1 | O22: Num. Wert
C23: Wetter-DL | E23: Allokationstemperatur der Leitungspartner GmbH | F23: Meteomedia | G23: DWD | H23: DWD | I23: DWD | J23: DWD | K23: DWD | L23: DWD | M23: DWD | N23: DWD | O23: Auswahlfeld | R23: DWD | S23: MeteoGroup | T23: =O15 -> Allokationstemperatur der Leitungspartner GmbH
C24: Name der Station | E24: Düren | F24: DEF-St. | O24: Textfeld
C25: Stations-Nr. | E25: 95040 | F25: xxxxx | O25: Code | R25: St.-Nr.
C26: Klima-Zeitreihe | E26: Temp. (2m) | F26: Temp. (2m) | O26: Auswahlfeld | R26: Temp. (2m) | S26: Sonstiges
C28: Anzahl Temperaturen für Zeitreihengewichtung: | F28: 1
E29: =IF(E30>$F$28,0,1) -> 1 | F29: =IF(F30>$F$28,0,1) -> 0 | G29: =IF(G30>$F$28,0,1) -> 0 | H29: =IF(H30>$F$28,0,1) -> 0 | I29: =IF(I30>$F$28,0,1) -> 0 | J29: =IF(J30>$F$28,0,1) -> 0 | K29: =IF(K30>$F$28,0,1) -> 0 | L29: =IF(L30>$F$28,0,1) -> 0 | ... N29: =IF(N30>$F$28,0,1) -> 0
C30: Temp.-ZR Reihenbildung | D30: Tn | E30: 1 | F30: 2 | G30: 3 | H30: 4 | I30: 5 | J30: 6 | K30: 7 | L30: 8 | M30: 9 | N30: 10 | O30: Art des Feldes
C31: Gewichtungsfaktoren (Temp.-ZR) | D31: g(Tn) | E31: =1-SUMPRODUCT(F29:N29,F31:N31) -> 1 | F31: =ROUND(F32/$D$32,4) -> 0.5 | G31: =ROUND(G32/$D$32,4) -> 0.25 | H31: =ROUND(H32/$D$32,4) -> 0.125 | I31: =ROUND(I32/$D$32,4) -> 0 | J31: =ROUND(J32/$D$32,4) -> 0 | K31: =ROUND(K32/$D$32,4) -> 0 | L31: =ROUND(L32/$D$32,4) -> 0 | M31: =ROUND(M32/$D$32,4) -> 0 | N31: =ROUND(N32/$D$32,4) -> 0
C32: Gewichte (Temp.-ZR) G(Tn) | D32: =SUMPRODUCT(E32:N32,E29:N29) -> 1 | E32: 1 | F32: 0.5 | G32: 0.25 | H32: 0.125 | O32: Num. Wert
C33: Temperturzeitraum | D33: [d] | E33: D | F33: D-1 | G33: D-2 | H33: D-3 | O33: Auswahlfeld | R33: D | S33: D-1 | T33: D-2 | U33: D-3 | V33: D-4 | W33: D-5 | X33: D-6 | Y33: D-7 | Z33: D-8 | AA33: D-9 | AB33: D-10
C34: Tages-Bezug [Gastag/Kalendertag] | D34: [GT/KT] | E34: Gastag | F34: Gastag | G34: Gastag | H34: Gastag | O34: Auswahlfeld | R34: Gastag | S34: Kalendertag
C35: Zeitzone für Tages-Bezug | D35: [UCT/CET] | E35: CET/CEST | F35: CET/CEST | G35: CET/CEST | H35: CET/CEST | I35: CET/CEST | J35: CET/CEST | K35: CET/CEST | L35: CET/CEST | M35: CET/CEST | N35: CET/CEST | O35: Auswahlfeld | R35: CET/CEST | S35: UCT
C36: Art der Zeitreihe | D36: [IST/Prog] | E36: Temp.-Prog. | F36: Temp.-Prog. | G36: Temp.-IST | H36: Temp.-IST | O36: Auswahlfeld | R36: Temp.-IST | S36: Temp.-Prog.
C38: Erläuterung:
C39: für Betrachtungstag D | E39: T(Allokation) = T(gew. Stations-Temp) + DTKP
E40: T(gew. Stations-Temp.) = [TS1 • g(S1) + TS2 • g(S2) + TS3 • g(S3) + …. + TS10 • g(S10)]
E41: Summe(g(S1 …S10)) = [g(S1) + g(S2) + g(S3) + ... + g(S10)] = 1,000
E42: TSn(gew.Temp) = [T1 • g(T1) + T2 • g(T2) + T3 • g(T3) + …: + T10 • g(T10)]
E43: Summe(g(T1 …T10)) = [g(T1) + g(T2) + g(T3) + … + g(T10)] = 1,000
C45: Beispiel für Gewichte G(Tn):
C46: Eintages-Temp. (Vorhersagetemp.) | D46: G(Tn) | E46: 1 | F46: 0 | G46: 0 | H46: 0 | I46: 0 | J46: …
C47: Geom.-Reihe (gem. LF-SLP) | D47: G(Tn) | E47: 1 | F47: 0.5 | G47: 0.25 | H47: 0.125 | I47: 0 | J47: …
B50: b.) für Kundenwerttemperatur (auch für Misch-Kundenwerttemperatur [virt. Wetter-Station])
C52: Anzahl Station für Misch-Kundenwerttemperatur: | F52: =F18 -> 1
E53: =IF(E54>$F$52,0,1) -> 1 | F53: =IF(F54>$F$52,0,1) -> 0 | G53: =IF(G54>$F$52,0,1) -> 0 | H53: =IF(H54>$F$52,0,1) -> 0 | I53: =IF(I54>$F$52,0,1) -> 0 | J53: =IF(J54>$F$52,0,1) -> 0 | K53: =IF(K54>$F$52,0,1) -> 0 | L53: =IF(L54>$F$52,0,1) -> 0 | ... N53: =IF(N54>$F$52,0,1) -> 0
C54: Temperaturstationen | D54: Sn | E54: 1 | F54: 2 | G54: 3 | H54: 4 | I54: 5 | J54: 6 | K54: 7 | L54: 8 | M54: 9 | N54: 10 | O54: Art des Feldes
C55: Gewichtungsfaktoren (Station) | D55: g(Sn) | E55: =1-SUMPRODUCT(F53:N53,F55:N55) -> 1 | F55: =ROUND(F56/$D$56,4) -> 1 | G55: =ROUND(G56/$D$56,4) -> 0 | H55: =ROUND(H56/$D$56,4) -> 0 | I55: =ROUND(I56/$D$56,4) -> 0 | J55: =ROUND(J56/$D$56,4) -> 0 | K55: =ROUND(K56/$D$56,4) -> 0 | L55: =ROUND(L56/$D$56,4) -> 0 | M55: =ROUND(M56/$D$56,4) -> 0 | N55: =ROUND(N56/$D$56,4) -> 0
C56: Gewichte (Station) G(Sn) | D56: =SUMPRODUCT(E56:N56,E53:N53) -> 1 | E56: =E22 -> 1 | F56: =F22 -> 1 | G56: =G22 -> 0 | H56: =H22 -> 0 | I56: =I22 -> 0 | J56: =J22 -> 0 | K56: =K22 -> 0 | L56: =L22 -> 0 | ... N56: =N22 -> 0 | O56: Num. Wert
C57: Wetter-DL | E57: MeteoGroup | F57: =F23 -> Meteomedia | G57: =G23 -> DWD | H57: =H23 -> DWD | I57: =I23 -> DWD | J57: =J23 -> DWD | K57: =K23 -> DWD | L57: =L23 -> DWD | M57: =M23 -> DWD | N57: =N23 -> DWD | O57: Auswahlfeld
C58: Name der Station | E58: =E24 -> Düren | F58: =F24 -> DEF-St. | G58: =G24 -> 0 | H58: =H24 -> 0 | I58: =I24 -> 0 | J58: =J24 -> 0 | K58: =K24 -> 0 | L58: =L24 -> 0 | ... N58: =N24 -> 0 | O58: Textfeld
C59: Stations-Nr. | E59: =E25 -> 95040 | F59: =F25 -> xxxxx | G59: =G25 -> 0 | H59: =H25 -> 0 | I59: =I25 -> 0 | J59: =J25 -> 0 | K59: =K25 -> 0 | L59: =L25 -> 0 | ... N59: =N25 -> 0 | O59: Code
C60: Klima-Zeitreihe | E60: =E26 -> Temp. (2m) | F60: =F26 -> Temp. (2m) | G60: =G26 -> 0 | H60: =H26 -> 0 | I60: =I26 -> 0 | J60: =J26 -> 0 | K60: =K26 -> 0 | L60: =L26 -> 0 | ... N60: =N26 -> 0 | O60: Auswahlfeld
C62: Anzahl Temperaturen für Zeitreihengewichtung: | F62: 1
E63: =IF(E64>$F$62,0,1) -> 1 | F63: =IF(F64>$F$62,0,1) -> 0 | G63: =IF(G64>$F$62,0,1) -> 0 | H63: =IF(H64>$F$62,0,1) -> 0 | I63: =IF(I64>$F$62,0,1) -> 0 | J63: =IF(J64>$F$62,0,1) -> 0 | K63: =IF(K64>$F$62,0,1) -> 0 | L63: =IF(L64>$F$62,0,1) -> 0 | ... N63: =IF(N64>$F$62,0,1) -> 0
C64: Temp.-ZR Reihenbildung | D64: Tn | E64: 1 | F64: 2 | G64: 3 | H64: 4 | I64: 5 | J64: 6 | K64: 7 | L64: 8 | M64: 9 | N64: 10 | O64: Art des Feldes
C65: Gewichtungsfaktoren (Temp.-ZR) | D65: g(Tn) | E65: =1-SUMPRODUCT(F63:N63,F65:N65) -> 1 | F65: =ROUND(F66/$D$66,4) -> 0.5 | G65: =ROUND(G66/$D$66,4) -> 0.25 | H65: =ROUND(H66/$D$66,4) -> 0.125 | I65: =ROUND(I66/$D$66,4) -> 0 | J65: =ROUND(J66/$D$66,4) -> 0 | K65: =ROUND(K66/$D$66,4) -> 0 | L65: =ROUND(L66/$D$66,4) -> 0 | M65: =ROUND(M66/$D$66,4) -> 0 | N65: =ROUND(N66/$D$66,4) -> 0
C66: Gewichte (Temp.-ZR) G(Tn) | D66: =SUMPRODUCT(E66:N66,E63:N63) -> 1 | E66: =E32 -> 1 | F66: =F32 -> 0.5 | G66: =G32 -> 0.25 | H66: =H32 -> 0.125 | I66: =I32 -> 0 | J66: =J32 -> 0 | K66: =K32 -> 0 | L66: =L32 -> 0 | ... N66: =N32 -> 0 | O66: Num. Wert
C67: Temperturzeitraum | D67: [d] | E67: =E33 -> D | F67: =F33 -> D-1 | G67: =G33 -> D-2 | H67: =H33 -> D-3 | I67: =I33 -> 0 | J67: =J33 -> 0 | K67: =K33 -> 0 | L67: =L33 -> 0 | ... N67: =N33 -> 0 | O67: Auswahlfeld
C68: Tages-Bezug [Gastag/Kalendertag] | D68: [GT/KT] | E68: =E34 -> Gastag | F68: Gastag | G68: =G34 -> Gastag | H68: =H34 -> Gastag | I68: =I34 -> 0 | J68: =J34 -> 0 | K68: =K34 -> 0 | L68: =L34 -> 0 | M68: =M34 -> 0 | N68: =N34 -> 0 | O68: Auswahlfeld
C69: Zeitzone für Tages-Bezug | D69: [UCT/CET] | E69: =E35 -> CET/CEST | F69: =F35 -> CET/CEST | G69: =G35 -> CET/CEST | H69: =H35 -> CET/CEST | I69: =I35 -> CET/CEST | J69: =J35 -> CET/CEST | K69: =K35 -> CET/CEST | L69: =L35 -> CET/CEST | ... N69: =N35 -> CET/CEST | O69: Auswahlfeld
C70: Art der Zeitreihe | D70: [IST/Prog] | E70: Temp.-Prog. | F70: Temp.-Prog. | G70: =G36 -> Temp.-IST | H70: =H36 -> Temp.-IST | I70: =I36 -> 0 | J70: =J36 -> 0 | K70: =K36 -> 0 | L70: =L36 -> 0 | M70: =M36 -> 0 | N70: =N36 -> 0 | O70: Auswahlfeld
C72: Berechnung analog Allokationstemperatur (siehe Erläuterung)

Sheet SLP-Profile
B2: Verwendete SLP Profiltypen
B3: Hier sind alle vom Netzbetreiber im Netzgebiet verwendeten SLP-Profiltypen aufzuführen.
C5: Netzbetreiber: | D5: =Netzbetreiber!$D$9 -> Leitungspartner GmbH | J5: Hinweis: | K5: Profilnomenklaturen können in Zelle "E11" eingesehen werden. Doppelt hinterlegte Profile sind rot markiert
C6: Netzgebiet: | D6: =Netzbetreiber!$D$28 -> Netzgebiet Leitungspartner | K6: Formeln/Koeffizienten zur Koeffizientenübernahme der BDEW-Profile können aus Zeile "11" übernommen werden
C7: Marktpartner-ID: | D7: =Netzbetreiber!$D$11 -> 9870116800003
C8: gültig ab: | D8: =Netzbetreiber!$D$6 -> 44470 | H8: Anzahl verwendeter Profile: | J8: =COUNTA(D12:D100) -> 24
F9: 2 | H9: 4 | I9: 5 | J9: 6 | K9: 7 | L9: 8 | M9: 9 | N9: 10 | O9: 11 | P9: 12 | Q9: 8 | R9: 3 | S9: 4 | T9: 5 | U9: 6 | V9: 7 | W9: 8 | X9: 9
B10: # | C10: Netzgebiet | D10: Profil-Art | E10: BDEW Nomen- klatur | F10: EDI-CODE | H10: A | I10: B | J10: C | K10: D | L10: ϑ0 | M10: mH | N10: bH | O10: mW | P10: bW | Q10: h(8°C) (FWT = 1) | R10: FWT (Mo.) | S10: FWT (Di.) | T10: FWT (Mi.) | U10: FWT (Do.) | V10: FWT (Fr.) | W10: FWT (Sa.) | X10: FWT (So.) | Y10: Multiplikator MSLP Umrechnungsfaktor: KW = JVP / MSLP
B11: Muster | C11: Abruf von BDEW-Standardwerten: | D11: BDEW | E11: DE_GKO34 | F11: =VLOOKUP($E11,'BDEW-Standard'!$B$3:$M$158,F$9,0) -> OK4 | H11: =ROUND(VLOOKUP($E11,'BDEW-Standard'!$B$3:$M$158,H$9,0),7) -> 1.4256684 | I11: =ROUND(VLOOKUP($E11,'BDEW-Standard'!$B$3:$M$158,I$9,0),7) -> -36.65905 | J11: =ROUND(VLOOKUP($E11,'BDEW-Standard'!$B$3:$M$158,J$9,0),7) -> 7.6083226 | K11: =ROUND(VLOOKUP($E11,'BDEW-Standard'!$B$3:$M$158,K$9,0),7) -> 0.0371116 | L11: =ROUND(VLOOKUP($E11,'BDEW-Standard'!$B$3:$M$158,L$9,0),1) -> 40 | M11: =ROUND(VLOOKUP($E11,'BDEW-Standard'!$B$3:$M$158,M$9,0),7) -> -0.0809359 | N11: =ROUND(VLOOKUP($E11,'BDEW-Standard'!$B$3:$M$158,N$9,0),7) -> 1.2364527 | O11: =ROUND(VLOOKUP($E11,'BDEW-Standard'!$B$3:$M$158,O$9,0),7) -> -0.0007628 | P11: =ROUND(VLOOKUP($E11,'BDEW-Standard'!$B$3:$M$158,P$9,0),7) -> 0.1002979 | Q11: =($H11/(1+($I11/($Q$9-$L11))^$J11)+$K11)+MAX($M11*$Q$9+$N11,$O11*$Q$9+$P11) -> 0.99999996 | R11: =ROUND(VLOOKUP(MID($E11,4,3),'Wochentag F(WT)'!$B$7:$J$22,R$9,0),4) -> 1.0354 | S11: =ROUND(VLOOKUP(MID($E11,4,3),'Wochentag F(WT)'!$B$7:$J$22,S$9,0),4) -> 1.0523 | T11: =ROUND(VLOOKUP(MID($E11,4,3),'Wochentag F(WT)'!$B$7:$J$22,T$9,0),4) -> 1.0449 | U11: =ROUND(VLOOKUP(MID($E11,4,3),'Wochentag F(WT)'!$B$7:$J$22,U$9,0),4) -> 1.0494 | V11: =ROUND(VLOOKUP(MID($E11,4,3),'Wochentag F(WT)'!$B$7:$J$22,V$9,0),4) -> 0.9885 | W11: =ROUND(VLOOKUP(MID($E11,4,3),'Wochentag F(WT)'!$B$7:$J$22,W$9,0),4) -> 0.886 | X11: =7-SUM(R11:W11) -> 0.9435 | Y11: 365.123
B12: 1 | C12: =$D$6 -> Netzgebiet Leitungspartner | D12: BDEW | E12: DE_GBA04 | F12: =VLOOKUP($E12,'BDEW-Standard'!$B$3:$M$158,F$9,0) -> BA4 | H12: =ROUND(VLOOKUP($E12,'BDEW-Standard'!$B$3:$M$94,H$9,0),7) -> 0.9315889 | I12: =ROUND(VLOOKUP($E12,'BDEW-Standard'!$B$3:$M$94,I$9,0),7) -> -33.35 | J12: =ROUND(VLOOKUP($E12,'BDEW-Standard'!$B$3:$M$94,J$9,0),7) -> 5.7212303 | K12: =ROUND(VLOOKUP($E12,'BDEW-Standard'!$B$3:$M$94,K$9,0),7) -> 0.6656494 | L12: =ROUND(VLOOKUP($E12,'BDEW-Standard'!$B$3:$M$94,L$9,0),1) -> 40 | M12: =ROUND(VLOOKUP($E12,'BDEW-Standard'!$B$3:$M$158,M$9,0),7) -> 0 | N12: =ROUND(VLOOKUP($E12,'BDEW-Standard'!$B$3:$M$158,N$9,0),7) -> 0 | O12: =ROUND(VLOOKUP($E12,'BDEW-Standard'!$B$3:$M$158,O$9,0),7) -> 0 | P12: =ROUND(VLOOKUP($E12,'BDEW-Standard'!$B$3:$M$158,P$9,0),7) -> 0 | Q12: =($H12/(1+($I12/($Q$9-$L12))^$J12)+$K12)+MAX($M12*$Q$9+$N12,$O12*$Q$9+$P12) -> 1.0766392 | R12: =ROUND(VLOOKUP(MID($E12,4,3),'Wochentag F(WT)'!$B$7:$J$22,R$9,0),4) -> 1.0848 | S12: =ROUND(VLOOKUP(MID($E12,4,3),'Wochentag F(WT)'!$B$7:$J$22,S$9,0),4) -> 1.1211 | T12: =ROUND(VLOOKUP(MID($E12,4,3),'Wochentag F(WT)'!$B$7:$J$22,T$9,0),4) -> 1.0769 | U12: =ROUND(VLOOKUP(MID($E12,4,3),'Wochentag F(WT)'!$B$7:$J$22,U$9,0),4) -> 1.1353 | V12: =ROUND(VLOOKUP(MID($E12,4,3),'Wochentag F(WT)'!$B$7:$J$22,V$9,0),4) -> 1.1402 | W12: =ROUND(VLOOKUP(MID($E12,4,3),'Wochentag F(WT)'!$B$7:$J$22,W$9,0),4) -> 0.4852 | X12: =7-SUM(R12:W12) -> 0.9565
B13: 2 | C13: =$D$6 -> Netzgebiet Leitungspartner | D13: BDEW | E13: DE_GBD04 | F13: =VLOOKUP($E13,'BDEW-Standard'!$B$3:$M$158,F$9,0) -> BD4 | H13: =ROUND(VLOOKUP($E13,'BDEW-Standard'!$B$3:$M$94,H$9,0),7) -> 3.75 | I13: =ROUND(VLOOKUP($E13,'BDEW-Standard'!$B$3:$M$94,I$9,0),7) -> -37.5 | J13: =ROUND(VLOOKUP($E13,'BDEW-Standard'!$B$3:$M$94,J$9,0),7) -> 6.8 | K13: =ROUND(VLOOKUP($E13,'BDEW-Standard'!$B$3:$M$94,K$9,0),7) -> 0.0609113 | L13: =ROUND(VLOOKUP($E13,'BDEW-Standard'!$B$3:$M$94,L$9,0),1) -> 40 | M13: =ROUND(VLOOKUP($E13,'BDEW-Standard'!$B$3:$M$158,M$9,0),7) -> 0 | N13: =ROUND(VLOOKUP($E13,'BDEW-Standard'!$B$3:$M$158,N$9,0),7) -> 0 | O13: =ROUND(VLOOKUP($E13,'BDEW-Standard'!$B$3:$M$158,O$9,0),7) -> 0 | P13: =ROUND(VLOOKUP($E13,'BDEW-Standard'!$B$3:$M$158,P$9,0),7) -> 0 | Q13: =($H13/(1+($I13/($Q$9-$L13))^$J13)+$K13)+MAX($M13*$Q$9+$N13,$O13*$Q$9+$P13) -> 1.0126136 | R13: =ROUND(VLOOKUP(MID($E13,4,3),'Wochentag F(WT)'!$B$7:$J$22,R$9,0),4) -> 1.1052 | S13: =ROUND(VLOOKUP(MID($E13,4,3),'Wochentag F(WT)'!$B$7:$J$22,S$9,0),4) -> 1.0857 | T13: =ROUND(VLOOKUP(MID($E13,4,3),'Wochentag F(WT)'!$B$7:$J$22,T$9,0),4) -> 1.0378 | U13: =ROUND(VLOOKUP(MID($E13,4,3),'Wochentag F(WT)'!$B$7:$J$22,U$9,0),4) -> 1.0622 | V13: =ROUND(VLOOKUP(MID($E13,4,3),'Wochentag F(WT)'!$B$7:$J$22,V$9,0),4) -> 1.0266 | W13: =ROUND(VLOOKUP(MID($E13,4,3),'Wochentag F(WT)'!$B$7:$J$22,W$9,0),4) -> 0.7629 | X13: =7-SUM(R13:W13) -> 0.9196
B14: 3 | C14: =$D$6 -> Netzgebiet Leitungspartner | D14: BDEW | E14: DE_GBD05 | F14: =VLOOKUP($E14,'BDEW-Standard'!$B$3:$M$158,F$9,0) -> BD5 | H14: =ROUND(VLOOKUP($E14,'BDEW-Standard'!$B$3:$M$94,H$9,0),7) -> 4.5699506 | I14: =ROUND(VLOOKUP($E14,'BDEW-Standard'!$B$3:$M$94,I$9,0),7) -> -38.535339 | J14: =ROUND(VLOOKUP($E14,'BDEW-Standard'!$B$3:$M$94,J$9,0),7) -> 7.5976991 | K14: =ROUND(VLOOKUP($E14,'BDEW-Standard'!$B$3:$M$94,K$9,0),7) -> 0.0066314 | L14: =ROUND(VLOOKUP($E14,'BDEW-Standard'!$B$3:$M$94,L$9,0),1) -> 40 | M14: =ROUND(VLOOKUP($E14,'BDEW-Standard'!$B$3:$M$158,M$9,0),7) -> 0 | N14: =ROUND(VLOOKUP($E14,'BDEW-Standard'!$B$3:$M$158,N$9,0),7) -> 0 | O14: =ROUND(VLOOKUP($E14,'BDEW-Standard'!$B$3:$M$158,O$9,0),7) -> 0 | P14: =ROUND(VLOOKUP($E14,'BDEW-Standard'!$B$3:$M$158,P$9,0),7) -> 0 | Q14: =($H14/(1+($I14/($Q$9-$L14))^$J14)+$K14)+MAX($M14*$Q$9+$N14,$O14*$Q$9+$P14) -> 0.902003 | R14: =ROUND(VLOOKUP(MID($E14,4,3),'Wochentag F(WT)'!$B$7:$J$22,R$9,0),4) -> 1.1052 | S14: =ROUND(VLOOKUP(MID($E14,4,3),'Wochentag F(WT)'!$B$7:$J$22,S$9,0),4) -> 1.0857 | T14: =ROUND(VLOOKUP(MID($E14,4,3),'Wochentag F(WT)'!$B$7:$J$22,T$9,0),4) -> 1.0378 | U14: =ROUND(VLOOKUP(MID($E14,4,3),'Wochentag F(WT)'!$B$7:$J$22,U$9,0),4) -> 1.0622 | V14: =ROUND(VLOOKUP(MID($E14,4,3),'Wochentag F(WT)'!$B$7:$J$22,V$9,0),4) -> 1.0266 | W14: =ROUND(VLOOKUP(MID($E14,4,3),'Wochentag F(WT)'!$B$7:$J$22,W$9,0),4) -> 0.7629 | X14: =7-SUM(R14:W14) -> 0.9196
B15: 4 | C15: =$D$6 -> Netzgebiet Leitungspartner | D15: BDEW | E15: DE_GBH04 | F15: =VLOOKUP($E15,'BDEW-Standard'!$B$3:$M$158,F$9,0) -> BH4 | H15: =ROUND(VLOOKUP($E15,'BDEW-Standard'!$B$3:$M$94,H$9,0),7) -> 2.4595181 | I15: =ROUND(VLOOKUP($E15,'BDEW-Standard'!$B$3:$M$94,I$9,0),7) -> -35.253212 | J15: =ROUND(VLOOKUP($E15,'BDEW-Standard'!$B$3:$M$94,J$9,0),7) -> 6.0587001 | K15: =ROUND(VLOOKUP($E15,'BDEW-Standard'!$B$3:$M$94,K$9,0),7) -> 0.164737 | L15: =ROUND(VLOOKUP($E15,'BDEW-Standard'!$B$3:$M$94,L$9,0),1) -> 40 | M15: =ROUND(VLOOKUP($E15,'BDEW-Standard'!$B$3:$M$158,M$9,0),7) -> 0 | N15: =ROUND(VLOOKUP($E15,'BDEW-Standard'!$B$3:$M$158,N$9,0),7) -> 0 | O15: =ROUND(VLOOKUP($E15,'BDEW-Standard'!$B$3:$M$158,O$9,0),7) -> 0 | P15: =ROUND(VLOOKUP($E15,'BDEW-Standard'!$B$3:$M$158,P$9,0),7) -> 0 | Q15: =($H15/(1+($I15/($Q$9-$L15))^$J15)+$K15)+MAX($M15*$Q$9+$N15,$O15*$Q$9+$P15) -> 1.0438021 | R15: =ROUND(VLOOKUP(MID($E15,4,3),'Wochentag F(WT)'!$B$7:$J$22,R$9,0),4) -> 0.9767 | S15: =ROUND(VLOOKUP(MID($E15,4,3),'Wochentag F(WT)'!$B$7:$J$22,S$9,0),4) -> 1.0389 | T15: =ROUND(VLOOKUP(MID($E15,4,3),'Wochentag F(WT)'!$B$7:$J$22,T$9,0),4) -> 1.0028 | U15: =ROUND(VLOOKUP(MID($E15,4,3),'Wochentag F(WT)'!$B$7:$J$22,U$9,0),4) -> 1.0162 | V15: =ROUND(VLOOKUP(MID($E15,4,3),'Wochentag F(WT)'!$B$7:$J$22,V$9,0),4) -> 1.0024 | W15: =ROUND(VLOOKUP(MID($E15,4,3),'Wochentag F(WT)'!$B$7:$J$22,W$9,0),4) -> 1.0043 | X15: =7-SUM(R15:W15) -> 0.9587
B16: 5 | C16: =$D$6 -> Netzgebiet Leitungspartner | D16: BDEW | E16: DE_GBH05 | F16: =VLOOKUP($E16,'BDEW-Standard'!$B$3:$M$158,F$9,0) -> BH5 | H16: =ROUND(VLOOKUP($E16,'BDEW-Standard'!$B$3:$M$94,H$9,0),7) -> 2.98 | I16: =ROUND(VLOOKUP($E16,'BDEW-Standard'!$B$3:$M$94,I$9,0),7) -> -35.8 | J16: =ROUND(VLOOKUP($E16,'BDEW-Standard'!$B$3:$M$94,J$9,0),7) -> 5.6340581 | K16: =ROUND(VLOOKUP($E16,'BDEW-Standard'!$B$3:$M$94,K$9,0),7) -> 0 | L16: =ROUND(VLOOKUP($E16,'BDEW-Standard'!$B$3:$M$94,L$9,0),1) -> 40 | M16: =ROUND(VLOOKUP($E16,'BDEW-Standard'!$B$3:$M$158,M$9,0),7) -> 0 | N16: =ROUND(VLOOKUP($E16,'BDEW-Standard'!$B$3:$M$158,N$9,0),7) -> 0 | O16: =ROUND(VLOOKUP($E16,'BDEW-Standard'!$B$3:$M$158,O$9,0),7) -> 0 | P16: =ROUND(VLOOKUP($E16,'BDEW-Standard'!$B$3:$M$158,P$9,0),7) -> 0 | Q16: =($H16/(1+($I16/($Q$9-$L16))^$J16)+$K16)+MAX($M16*$Q$9+$N16,$O16*$Q$9+$P16) -> 1.0340894 | R16: =ROUND(VLOOKUP(MID($E16,4,3),'Wochentag F(WT)'!$B$7:$J$22,R$9,0),4) -> 0.9767 | S16: =ROUND(VLOOKUP(MID($E16,4,3),'Wochentag F(WT)'!$B$7:$J$22,S$9,0),4) -> 1.0389 | T16: =ROUND(VLOOKUP(MID($E16,4,3),'Wochentag F(WT)'!$B$7:$J$22,T$9,0),4) -> 1.0028 | U16: =ROUND(VLOOKUP(MID($E16,4,3),'Wochentag F(WT)'!$B$7:$J$22,U$9,0),4) -> 1.0162 | V16: =ROUND(VLOOKUP(MID($E16,4,3),'Wochentag F(WT)'!$B$7:$J$22,V$9,0),4) -> 1.0024 | W16: =ROUND(VLOOKUP(MID($E16,4,3),'Wochentag F(WT)'!$B$7:$J$22,W$9,0),4) -> 1.0043 | X16: =7-SUM(R16:W16) -> 0.9587
B17: 6 | C17: =$D$6 -> Netzgebiet Leitungspartner | D17: BDEW | E17: DE_GGA04 | F17: =VLOOKUP($E17,'BDEW-Standard'!$B$3:$M$158,F$9,0) -> GA4 | H17: =ROUND(VLOOKUP($E17,'BDEW-Standard'!$B$3:$M$94,H$9,0),7) -> 2.8195656 | I17: =ROUND(VLOOKUP($E17,'BDEW-Standard'!$B$3:$M$94,I$9,0),7) -> -36 | J17: =ROUND(VLOOKUP($E17,'BDEW-Standard'!$B$3:$M$94,J$9,0),7) -> 7.7368518 | K17: =ROUND(VLOOKUP($E17,'BDEW-Standard'!$B$3:$M$94,K$9,0),7) -> 0.157281 | L17: =ROUND(VLOOKUP($E17,'BDEW-Standard'!$B$3:$M$94,L$9,0),1) -> 40 | M17: =ROUND(VLOOKUP($E17,'BDEW-Standard'!$B$3:$M$158,M$9,0),7) -> 0 | N17: =ROUND(VLOOKUP($E17,'BDEW-Standard'!$B$3:$M$158,N$9,0),7) -> 0 | O17: =ROUND(VLOOKUP($E17,'BDEW-Standard'!$B$3:$M$158,O$9,0),7) -> 0 | P17: =ROUND(VLOOKUP($E17,'BDEW-Standard'!$B$3:$M$158,P$9,0),7) -> 0 | Q17: =($H17/(1+($I17/($Q$9-$L17))^$J17)+$K17)+MAX($M17*$Q$9+$N17,$O17*$Q$9+$P17) -> 0.96576338 | R17: =ROUND(VLOOKUP(MID($E17,4,3),'Wochentag F(WT)'!$B$7:$J$22,R$9,0),4) -> 0.9322 | S17: =ROUND(VLOOKUP(MID($E17,4,3),'Wochentag F(WT)'!$B$7:$J$22,S$9,0),4) -> 0.9894 | T17: =ROUND(VLOOKUP(MID($E17,4,3),'Wochentag F(WT)'!$B$7:$J$22,T$9,0),4) -> 1.0033 | U17: =ROUND(VLOOKUP(MID($E17,4,3),'Wochentag F(WT)'!$B$7:$J$22,U$9,0),4) -> 1.0109 | V17: =ROUND(VLOOKUP(MID($E17,4,3),'Wochentag F(WT)'!$B$7:$J$22,V$9,0),4) -> 1.018 | W17: =ROUND(VLOOKUP(MID($E17,4,3),'Wochentag F(WT)'!$B$7:$J$22,W$9,0),4) -> 1.0356 | X17: =7-SUM(R17:W17) -> 1.0106
B18: 7 | C18: =$D$6 -> Netzgebiet Leitungspartner | D18: BDEW | E18: DE_GGA05 | F18: =VLOOKUP($E18,'BDEW-Standard'!$B$3:$M$158,F$9,0) -> GA5 | H18: =ROUND(VLOOKUP($E18,'BDEW-Standard'!$B$3:$M$94,H$9,0),7) -> 3.3295575 | I18: =ROUND(VLOOKUP($E18,'BDEW-Standard'!$B$3:$M$94,I$9,0),7) -> -36.014621 | J18: =ROUND(VLOOKUP($E18,'BDEW-Standard'!$B$3:$M$94,J$9,0),7) -> 8.7767465 | K18: =ROUND(VLOOKUP($E18,'BDEW-Standard'!$B$3:$M$94,K$9,0),7) -> 0 | L18: =ROUND(VLOOKUP($E18,'BDEW-Standard'!$B$3:$M$94,L$9,0),1) -> 40 | M18: =ROUND(VLOOKUP($E18,'BDEW-Standard'!$B$3:$M$158,M$9,0),7) -> 0 | N18: =ROUND(VLOOKUP($E18,'BDEW-Standard'!$B$3:$M$158,N$9,0),7) -> 0 | O18: =ROUND(VLOOKUP($E18,'BDEW-Standard'!$B$3:$M$158,O$9,0),7) -> 0 | P18: =ROUND(VLOOKUP($E18,'BDEW-Standard'!$B$3:$M$158,P$9,0),7) -> 0 | Q18: =($H18/(1+($I18/($Q$9-$L18))^$J18)+$K18)+MAX($M18*$Q$9+$N18,$O18*$Q$9+$P18) -> 0.87123951 | R18: =ROUND(VLOOKUP(MID($E18,4,3),'Wochentag F(WT)'!$B$7:$J$22,R$9,0),4) -> 0.9322 | S18: =ROUND(VLOOKUP(MID($E18,4,3),'Wochentag F(WT)'!$B$7:$J$22,S$9,0),4) -> 0.9894 | T18: =ROUND(VLOOKUP(MID($E18,4,3),'Wochentag F(WT)'!$B$7:$J$22,T$9,0),4) -> 1.0033 | U18: =ROUND(VLOOKUP(MID($E18,4,3),'Wochentag F(WT)'!$B$7:$J$22,U$9,0),4) -> 1.0109 | V18: =ROUND(VLOOKUP(MID($E18,4,3),'Wochentag F(WT)'!$B$7:$J$22,V$9,0),4) -> 1.018 | W18: =ROUND(VLOOKUP(MID($E18,4,3),'Wochentag F(WT)'!$B$7:$J$22,W$9,0),4) -> 1.0356 | X18: =7-SUM(R18:W18) -> 1.0106
B19: 8 | C19: =$D$6 -> Netzgebiet Leitungspartner | D19: BDEW | E19: DE_GGB04 | F19: =VLOOKUP($E19,'BDEW-Standard'!$B$3:$M$158,F$9,0) -> GB4 | H19: =ROUND(VLOOKUP($E19,'BDEW-Standard'!$B$3:$M$94,H$9,0),7) -> 3.6017736 | I19: =ROUND(VLOOKUP($E19,'BDEW-Standard'!$B$3:$M$94,I$9,0),7) -> -37.882537 | J19: =ROUND(VLOOKUP($E19,'BDEW-Standard'!$B$3:$M$94,J$9,0),7) -> 6.983607 | K19: =ROUND(VLOOKUP($E19,'BDEW-Standard'!$B$3:$M$94,K$9,0),7) -> 0.0548262 | L19: =ROUND(VLOOKUP($E19,'BDEW-Standard'!$B$3:$M$94,L$9,0),1) -> 40 | M19: =ROUND(VLOOKUP($E19,'BDEW-Standard'!$B$3:$M$158,M$9,0),7) -> 0 | N19: =ROUND(VLOOKUP($E19,'BDEW-Standard'!$B$3:$M$158,N$9,0),7) -> 0 | O19: =ROUND(VLOOKUP($E19,'BDEW-Standard'!$B$3:$M$158,O$9,0),7) -> 0 | P19: =ROUND(VLOOKUP($E19,'BDEW-Standard'!$B$3:$M$158,P$9,0),7) -> 0 | Q19: =($H19/(1+($I19/($Q$9-$L19))^$J19)+$K19)+MAX($M19*$Q$9+$N19,$O19*$Q$9+$P19) -> 0.90239376 | R19: =ROUND(VLOOKUP(MID($E19,4,3),'Wochentag F(WT)'!$B$7:$J$22,R$9,0),4) -> 0.9897 | S19: =ROUND(VLOOKUP(MID($E19,4,3),'Wochentag F(WT)'!$B$7:$J$22,S$9,0),4) -> 0.9627 | T19: =ROUND(VLOOKUP(MID($E19,4,3),'Wochentag F(WT)'!$B$7:$J$22,T$9,0),4) -> 1.0507 | U19: =ROUND(VLOOKUP(MID($E19,4,3),'Wochentag F(WT)'!$B$7:$J$22,U$9,0),4) -> 1.0552 | V19: =ROUND(VLOOKUP(MID($E19,4,3),'Wochentag F(WT)'!$B$7:$J$22,V$9,0),4) -> 1.0297 | W19: =ROUND(VLOOKUP(MID($E19,4,3),'Wochentag F(WT)'!$B$7:$J$22,W$9,0),4) -> 0.9767 | X19: =7-SUM(R19:W19) -> 0.9353
B20: 9 | C20: =$D$6 -> Netzgebiet Leitungspartner | D20: BDEW | E20: DE_GGB05 | F20: =VLOOKUP($E20,'BDEW-Standard'!$B$3:$M$158,F$9,0) -> GB5 | H20: =ROUND(VLOOKUP($E20,'BDEW-Standard'!$B$3:$M$94,H$9,0),7) -> 3.9320532 | I20: =ROUND(VLOOKUP($E20,'BDEW-Standard'!$B$3:$M$94,I$9,0),7) -> -38.143325 | J20: =ROUND(VLOOKUP($E20,'BDEW-Standard'!$B$3:$M$94,J$9,0),7) -> 7.6185871 | K20: =ROUND(VLOOKUP($E20,'BDEW-Standard'!$B$3:$M$94,K$9,0),7) -> 0.0230297 | L20: =ROUND(VLOOKUP($E20,'BDEW-Standard'!$B$3:$M$94,L$9,0),1) -> 40 | M20: =ROUND(VLOOKUP($E20,'BDEW-Standard'!$B$3:$M$158,M$9,0),7) -> 0 | N20: =ROUND(VLOOKUP($E20,'BDEW-Standard'!$B$3:$M$158,N$9,0),7) -> 0 | O20: =ROUND(VLOOKUP($E20,'BDEW-Standard'!$B$3:$M$158,O$9,0),7) -> 0 | P20: =ROUND(VLOOKUP($E20,'BDEW-Standard'!$B$3:$M$158,P$9,0),7) -> 0 | Q20: =($H20/(1+($I20/($Q$9-$L20))^$J20)+$K20)+MAX($M20*$Q$9+$N20,$O20*$Q$9+$P20) -> 0.84030498 | R20: =ROUND(VLOOKUP(MID($E20,4,3),'Wochentag F(WT)'!$B$7:$J$22,R$9,0),4) -> 0.9897 | S20: =ROUND(VLOOKUP(MID($E20,4,3),'Wochentag F(WT)'!$B$7:$J$22,S$9,0),4) -> 0.9627 | T20: =ROUND(VLOOKUP(MID($E20,4,3),'Wochentag F(WT)'!$B$7:$J$22,T$9,0),4) -> 1.0507 | U20: =ROUND(VLOOKUP(MID($E20,4,3),'Wochentag F(WT)'!$B$7:$J$22,U$9,0),4) -> 1.0552 | V20: =ROUND(VLOOKUP(MID($E20,4,3),'Wochentag F(WT)'!$B$7:$J$22,V$9,0),4) -> 1.0297 | W20: =ROUND(VLOOKUP(MID($E20,4,3),'Wochentag F(WT)'!$B$7:$J$22,W$9,0),4) -> 0.9767 | X20: =7-SUM(R20:W20) -> 0.9353
B21: 10 | C21: =$D$6 -> Netzgebiet Leitungspartner | D21: BDEW | E21: DE_GHA04 | F21: =VLOOKUP($E21,'BDEW-Standard'!$B$3:$M$158,F$9,0) -> HA4 | H21: =ROUND(VLOOKUP($E21,'BDEW-Standard'!$B$3:$M$94,H$9,0),7) -> 4.0196902 | I21: =ROUND(VLOOKUP($E21,'BDEW-Standard'!$B$3:$M$94,I$9,0),7) -> -37.828204 | J21: =ROUND(VLOOKUP($E21,'BDEW-Standard'!$B$3:$M$94,J$9,0),7) -> 8.1593369 | K21: =ROUND(VLOOKUP($E21,'BDEW-Standard'!$B$3:$M$94,K$9,0),7) -> 0.0472845 | L21: =ROUND(VLOOKUP($E21,'BDEW-Standard'!$B$3:$M$94,L$9,0),1) -> 40 | M21: =ROUND(VLOOKUP($E21,'BDEW-Standard'!$B$3:$M$158,M$9,0),7) -> 0 | N21: =ROUND(VLOOKUP($E21,'BDEW-Standard'!$B$3:$M$158,N$9,0),7) -> 0 | O21: =ROUND(VLOOKUP($E21,'BDEW-Standard'!$B$3:$M$158,O$9,0),7) -> 0 | P21: =ROUND(VLOOKUP($E21,'BDEW-Standard'!$B$3:$M$158,P$9,0),7) -> 0 | Q21: =($H21/(1+($I21/($Q$9-$L21))^$J21)+$K21)+MAX($M21*$Q$9+$N21,$O21*$Q$9+$P21) -> 0.86486713 | R21: =ROUND(VLOOKUP(MID($E21,4,3),'Wochentag F(WT)'!$B$7:$J$22,R$9,0),4) -> 1.0358 | S21: =ROUND(VLOOKUP(MID($E21,4,3),'Wochentag F(WT)'!$B$7:$J$22,S$9,0),4) -> 1.0232 | T21: =ROUND(VLOOKUP(MID($E21,4,3),'Wochentag F(WT)'!$B$7:$J$22,T$9,0),4) -> 1.0252 | U21: =ROUND(VLOOKUP(MID($E21,4,3),'Wochentag F(WT)'!$B$7:$J$22,U$9,0),4) -> 1.0295 | V21: =ROUND(VLOOKUP(MID($E21,4,3),'Wochentag F(WT)'!$B$7:$J$22,V$9,0),4) -> 1.0253 | W21: =ROUND(VLOOKUP(MID($E21,4,3),'Wochentag F(WT)'!$B$7:$J$22,W$9,0),4) -> 0.9675 | X21: =7-SUM(R21:W21) -> 0.8935
B22: 11 | C22: =$D$6 -> Netzgebiet Leitungspartner | D22: BDEW | E22: DE_GHA05 | F22: =VLOOKUP($E22,'BDEW-Standard'!$B$3:$M$158,F$9,0) -> HA5 | H22: =ROUND(VLOOKUP($E22,'BDEW-Standard'!$B$3:$M$94,H$9,0),7) -> 4.8252376 | I22: =ROUND(VLOOKUP($E22,'BDEW-Standard'!$B$3:$M$94,I$9,0),7) -> -39.280256 | J22: =ROUND(VLOOKUP($E22,'BDEW-Standard'!$B$3:$M$94,J$9,0),7) -> 8.6240217 | K22: =ROUND(VLOOKUP($E22,'BDEW-Standard'!$B$3:$M$94,K$9,0),7) -> 0.0099945 | L22: =ROUND(VLOOKUP($E22,'BDEW-Standard'!$B$3:$M$94,L$9,0),1) -> 40 | M22: =ROUND(VLOOKUP($E22,'BDEW-Standard'!$B$3:$M$158,M$9,0),7) -> 0 | N22: =ROUND(VLOOKUP($E22,'BDEW-Standard'!$B$3:$M$158,N$9,0),7) -> 0 | O22: =ROUND(VLOOKUP($E22,'BDEW-Standard'!$B$3:$M$158,O$9,0),7) -> 0 | P22: =ROUND(VLOOKUP($E22,'BDEW-Standard'!$B$3:$M$158,P$9,0),7) -> 0 | Q22: =($H22/(1+($I22/($Q$9-$L22))^$J22)+$K22)+MAX($M22*$Q$9+$N22,$O22*$Q$9+$P22) -> 0.7135892 | R22: =ROUND(VLOOKUP(MID($E22,4,3),'Wochentag F(WT)'!$B$7:$J$22,R$9,0),4) -> 1.0358 | S22: =ROUND(VLOOKUP(MID($E22,4,3),'Wochentag F(WT)'!$B$7:$J$22,S$9,0),4) -> 1.0232 | T22: =ROUND(VLOOKUP(MID($E22,4,3),'Wochentag F(WT)'!$B$7:$J$22,T$9,0),4) -> 1.0252 | U22: =ROUND(VLOOKUP(MID($E22,4,3),'Wochentag F(WT)'!$B$7:$J$22,U$9,0),4) -> 1.0295 | V22: =ROUND(VLOOKUP(MID($E22,4,3),'Wochentag F(WT)'!$B$7:$J$22,V$9,0),4) -> 1.0253 | W22: =ROUND(VLOOKUP(MID($E22,4,3),'Wochentag F(WT)'!$B$7:$J$22,W$9,0),4) -> 0.9675 | X22: =7-SUM(R22:W22) -> 0.8935
B23: 12 | C23: =$D$6 -> Netzgebiet Leitungspartner | D23: BDEW | E23: DE_GHD04 | F23: =VLOOKUP($E23,'BDEW-Standard'!$B$3:$M$158,F$9,0) -> HD4 | H23: =ROUND(VLOOKUP($E23,'BDEW-Standard'!$B$3:$M$94,H$9,0),7) -> 3.0084346 | I23: =ROUND(VLOOKUP($E23,'BDEW-Standard'!$B$3:$M$94,I$9,0),7) -> -36.607845 | J23: =ROUND(VLOOKUP($E23,'BDEW-Standard'!$B$3:$M$94,J$9,0),7) -> 7.321187 | K23: =ROUND(VLOOKUP($E23,'BDEW-Standard'!$B$3:$M$94,K$9,0),7) -> 0.154966 | L23: =ROUND(VLOOKUP($E23,'BDEW-Standard'!$B$3:$M$94,L$9,0),1) -> 40 | M23: =ROUND(VLOOKUP($E23,'BDEW-Standard'!$B$3:$M$158,M$9,0),7) -> 0 | N23: =ROUND(VLOOKUP($E23,'BDEW-Standard'!$B$3:$M$158,N$9,0),7) -> 0 | O23: =ROUND(VLOOKUP($E23,'BDEW-Standard'!$B$3:$M$158,O$9,0),7) -> 0 | P23: =ROUND(VLOOKUP($E23,'BDEW-Standard'!$B$3:$M$158,P$9,0),7) -> 0 | Q23: =($H23/(1+($I23/($Q$9-$L23))^$J23)+$K23)+MAX($M23*$Q$9+$N23,$O23*$Q$9+$P23) -> 0.97302439 | R23: =ROUND(VLOOKUP(MID($E23,4,3),'Wochentag F(WT)'!$B$7:$J$22,R$9,0),4) -> 1.03 | S23: =ROUND(VLOOKUP(MID($E23,4,3),'Wochentag F(WT)'!$B$7:$J$22,S$9,0),4) -> 1.03 | T23: =ROUND(VLOOKUP(MID($E23,4,3),'Wochentag F(WT)'!$B$7:$J$22,T$9,0),4) -> 1.02 | U23: =ROUND(VLOOKUP(MID($E23,4,3),'Wochentag F(WT)'!$B$7:$J$22,U$9,0),4) -> 1.03 | V23: =ROUND(VLOOKUP(MID($E23,4,3),'Wochentag F(WT)'!$B$7:$J$22,V$9,0),4) -> 1.01 | W23: =ROUND(VLOOKUP(MID($E23,4,3),'Wochentag F(WT)'!$B$7:$J$22,W$9,0),4) -> 0.93 | X23: =7-SUM(R23:W23) -> 0.95
... B30: 19 | C30: =$D$6 -> Netzgebiet Leitungspartner | D30: BDEW | E30: DE_GMK05 | F30: =VLOOKUP($E30,'BDEW-Standard'!$B$3:$M$158,F$9,0) -> MK5 | H30: =ROUND(VLOOKUP($E30,'BDEW-Standard'!$B$3:$M$94,H$9,0),7) -> 3.5862355 | I30: =ROUND(VLOOKUP($E30,'BDEW-Standard'!$B$3:$M$94,I$9,0),7) -> -37.080299 | J30: =ROUND(VLOOKUP($E30,'BDEW-Standard'!$B$3:$M$94,J$9,0),7) -> 8.2420572 | K30: =ROUND(VLOOKUP($E30,'BDEW-Standard'!$B$3:$M$94,K$9,0),7) -> 0.0146008 | L30: =ROUND(VLOOKUP($E30,'BDEW-Standard'!$B$3:$M$94,L$9,0),1) -> 40 | M30: =ROUND(VLOOKUP($E30,'BDEW-Standard'!$B$3:$M$158,M$9,0),7) -> 0 | N30: =ROUND(VLOOKUP($E30,'BDEW-Standard'!$B$3:$M$158,N$9,0),7) -> 0 | O30: =ROUND(VLOOKUP($E30,'BDEW-Standard'!$B$3:$M$158,O$9,0),7) -> 0 | P30: =ROUND(VLOOKUP($E30,'BDEW-Standard'!$B$3:$M$158,P$9,0),7) -> 0 | Q30: =($H30/(1+($I30/($Q$9-$L30))^$J30)+$K30)+MAX($M30*$Q$9+$N30,$O30*$Q$9+$P30) -> 0.83553216 | R30: =ROUND(VLOOKUP(MID($E30,4,3),'Wochentag F(WT)'!$B$7:$J$22,R$9,0),4) -> 1.0699 | S30: =ROUND(VLOOKUP(MID($E30,4,3),'Wochentag F(WT)'!$B$7:$J$22,S$9,0),4) -> 1.0365 | T30: =ROUND(VLOOKUP(MID($E30,4,3),'Wochentag F(WT)'!$B$7:$J$22,T$9,0),4) -> 0.9933 | U30: =ROUND(VLOOKUP(MID($E30,4,3),'Wochentag F(WT)'!$B$7:$J$22,U$9,0),4) -> 0.9948 | V30: =ROUND(VLOOKUP(MID($E30,4,3),'Wochentag F(WT)'!$B$7:$J$22,V$9,0),4) -> 1.0659 | W30: =ROUND(VLOOKUP(MID($E30,4,3),'Wochentag F(WT)'!$B$7:$J$22,W$9,0),4) -> 0.9362 | X30: =7-SUM(R30:W30) -> 0.9034
B31: 20 | C31: =$D$6 -> Netzgebiet Leitungspartner | D31: BDEW | E31: NW_HEF04 | F31: =VLOOKUP($E31,'BDEW-Standard'!$B$3:$M$158,F$9,0) -> N14 | H31: =ROUND(VLOOKUP($E31,'BDEW-Standard'!$B$3:$M$158,H$9,0),7) -> 3.1935978 | I31: =ROUND(VLOOKUP($E31,'BDEW-Standard'!$B$3:$M$158,I$9,0),7) -> -37.414248 | J31: =ROUND(VLOOKUP($E31,'BDEW-Standard'!$B$3:$M$158,J$9,0),7) -> 6.1824021 | K31: =ROUND(VLOOKUP($E31,'BDEW-Standard'!$B$3:$M$158,K$9,0),7) -> 0.0647605 | L31: =ROUND(VLOOKUP($E31,'BDEW-Standard'!$B$3:$M$158,L$9,0),7) -> 40 | M31: =ROUND(VLOOKUP($E31,'BDEW-Standard'!$B$3:$M$158,M$9,0),7) -> 0 | N31: =ROUND(VLOOKUP($E31,'BDEW-Standard'!$B$3:$M$158,N$9,0),7) -> 0 | O31: =ROUND(VLOOKUP($E31,'BDEW-Standard'!$B$3:$M$158,O$9,0),7) -> 0 | P31: =ROUND(VLOOKUP($E31,'BDEW-Standard'!$B$3:$M$158,P$9,0),7) -> 0 | Q31: =($H31/(1+($I31/($Q$9-$L31))^$J31)+$K31)+MAX($M31*$Q$9+$N31,$O31*$Q$9+$P31) -> 0.94490761 | R31: =ROUND(VLOOKUP(MID($E31,4,3),'Wochentag F(WT)'!$B$7:$J$22,R$9,0),4) -> 1 | S31: =ROUND(VLOOKUP(MID($E31,4,3),'Wochentag F(WT)'!$B$7:$J$22,S$9,0),4) -> 1 | T31: =ROUND(VLOOKUP(MID($E31,4,3),'Wochentag F(WT)'!$B$7:$J$22,T$9,0),4) -> 1 | U31: =ROUND(VLOOKUP(MID($E31,4,3),'Wochentag F(WT)'!$B$7:$J$22,U$9,0),4) -> 1 | V31: =ROUND(VLOOKUP(MID($E31,4,3),'Wochentag F(WT)'!$B$7:$J$22,V$9,0),4) -> 1 | W31: =ROUND(VLOOKUP(MID($E31,4,3),'Wochentag F(WT)'!$B$7:$J$22,W$9,0),4) -> 1 | X31: =7-SUM(R31:W31) -> 1
B32: 21 | C32: =$D$6 -> Netzgebiet Leitungspartner | D32: BDEW | E32: NW_HMF04 | F32: =VLOOKUP($E32,'BDEW-Standard'!$B$3:$M$158,F$9,0) -> N24 | H32: =ROUND(VLOOKUP($E32,'BDEW-Standard'!$B$3:$M$158,H$9,0),7) -> 2.529738 | I32: =ROUND(VLOOKUP($E32,'BDEW-Standard'!$B$3:$M$158,I$9,0),7) -> -35.030015 | J32: =ROUND(VLOOKUP($E32,'BDEW-Standard'!$B$3:$M$158,J$9,0),7) -> 6.2051109 | K32: =ROUND(VLOOKUP($E32,'BDEW-Standard'!$B$3:$M$158,K$9,0),7) -> 0.0845241 | L32: =ROUND(VLOOKUP($E32,'BDEW-Standard'!$B$3:$M$158,L$9,0),7) -> 40 | M32: =ROUND(VLOOKUP($E32,'BDEW-Standard'!$B$3:$M$158,M$9,0),7) -> 0 | N32: =ROUND(VLOOKUP($E32,'BDEW-Standard'!$B$3:$M$158,N$9,0),7) -> 0 | O32: =ROUND(VLOOKUP($E32,'BDEW-Standard'!$B$3:$M$158,O$9,0),7) -> 0 | P32: =ROUND(VLOOKUP($E32,'BDEW-Standard'!$B$3:$M$158,P$9,0),7) -> 0 | Q32: =($H32/(1+($I32/($Q$9-$L32))^$J32)+$K32)+MAX($M32*$Q$9+$N32,$O32*$Q$9+$P32) -> 1.0034008 | R32: =ROUND(VLOOKUP(MID($E32,4,3),'Wochentag F(WT)'!$B$7:$J$22,R$9,0),4) -> 1 | S32: =ROUND(VLOOKUP(MID($E32,4,3),'Wochentag F(WT)'!$B$7:$J$22,S$9,0),4) -> 1 | T32: =ROUND(VLOOKUP(MID($E32,4,3),'Wochentag F(WT)'!$B$7:$J$22,T$9,0),4) -> 1 | U32: =ROUND(VLOOKUP(MID($E32,4,3),'Wochentag F(WT)'!$B$7:$J$22,U$9,0),4) -> 1 | V32: =ROUND(VLOOKUP(MID($E32,4,3),'Wochentag F(WT)'!$B$7:$J$22,V$9,0),4) -> 1 | W32: =ROUND(VLOOKUP(MID($E32,4,3),'Wochentag F(WT)'!$B$7:$J$22,W$9,0),4) -> 1 | X32: =7-SUM(R32:W32) -> 1
B33: 22 | C33: =$D$6 -> Netzgebiet Leitungspartner | D33: BDEW | E33: DE_GPD04 | F33: =VLOOKUP($E33,'BDEW-Standard'!$B$3:$M$158,F$9,0) -> PD4 | H33: =ROUND(VLOOKUP($E33,'BDEW-Standard'!$B$3:$M$94,H$9,0),7) -> 3.85 | I33: =ROUND(VLOOKUP($E33,'BDEW-Standard'!$B$3:$M$94,I$9,0),7) -> -37 | J33: =ROUND(VLOOKUP($E33,'BDEW-Standard'!$B$3:$M$94,J$9,0),7) -> 10.240502 | K33: =ROUND(VLOOKUP($E33,'BDEW-Standard'!$B$3:$M$94,K$9,0),7) -> 0.0469243 | L33: =ROUND(VLOOKUP($E33,'BDEW-Standard'!$B$3:$M$94,L$9,0),1) -> 40 | M33: =ROUND(VLOOKUP($E33,'BDEW-Standard'!$B$3:$M$158,M$9,0),7) -> 0 | N33: =ROUND(VLOOKUP($E33,'BDEW-Standard'!$B$3:$M$158,N$9,0),7) -> 0 | O33: =ROUND(VLOOKUP($E33,'BDEW-Standard'!$B$3:$M$158,O$9,0),7) -> 0 | P33: =ROUND(VLOOKUP($E33,'BDEW-Standard'!$B$3:$M$158,P$9,0),7) -> 0 | Q33: =($H33/(1+($I33/($Q$9-$L33))^$J33)+$K33)+MAX($M33*$Q$9+$N33,$O33*$Q$9+$P33) -> 0.75691065 | R33: =ROUND(VLOOKUP(MID($E33,4,3),'Wochentag F(WT)'!$B$7:$J$22,R$9,0),4) -> 1.0214 | S33: =ROUND(VLOOKUP(MID($E33,4,3),'Wochentag F(WT)'!$B$7:$J$22,S$9,0),4) -> 1.0866 | T33: =ROUND(VLOOKUP(MID($E33,4,3),'Wochentag F(WT)'!$B$7:$J$22,T$9,0),4) -> 1.072 | U33: =ROUND(VLOOKUP(MID($E33,4,3),'Wochentag F(WT)'!$B$7:$J$22,U$9,0),4) -> 1.0557 | V33: =ROUND(VLOOKUP(MID($E33,4,3),'Wochentag F(WT)'!$B$7:$J$22,V$9,0),4) -> 1.0117 | W33: =ROUND(VLOOKUP(MID($E33,4,3),'Wochentag F(WT)'!$B$7:$J$22,W$9,0),4) -> 0.9001 | X33: =7-SUM(R33:W33) -> 0.8525
B34: 23 | C34: =$D$6 -> Netzgebiet Leitungspartner | D34: BDEW | E34: DE_GPD05 | F34: =VLOOKUP($E34,'BDEW-Standard'!$B$3:$M$158,F$9,0) -> PD5 | H34: =ROUND(VLOOKUP($E34,'BDEW-Standard'!$B$3:$M$94,H$9,0),7) -> 4.7462814 | I34: =ROUND(VLOOKUP($E34,'BDEW-Standard'!$B$3:$M$94,I$9,0),7) -> -38.750429 | J34: =ROUND(VLOOKUP($E34,'BDEW-Standard'!$B$3:$M$94,J$9,0),7) -> 10.275333 | K34: =ROUND(VLOOKUP($E34,'BDEW-Standard'!$B$3:$M$94,K$9,0),7) -> 0 | L34: =ROUND(VLOOKUP($E34,'BDEW-Standard'!$B$3:$M$94,L$9,0),1) -> 40 | M34: =ROUND(VLOOKUP($E34,'BDEW-Standard'!$B$3:$M$158,M$9,0),7) -> 0 | N34: =ROUND(VLOOKUP($E34,'BDEW-Standard'!$B$3:$M$158,N$9,0),7) -> 0 | O34: =ROUND(VLOOKUP($E34,'BDEW-Standard'!$B$3:$M$158,O$9,0),7) -> 0 | P34: =ROUND(VLOOKUP($E34,'BDEW-Standard'!$B$3:$M$158,P$9,0),7) -> 0 | Q34: =($H34/(1+($I34/($Q$9-$L34))^$J34)+$K34)+MAX($M34*$Q$9+$N34,$O34*$Q$9+$P34) -> 0.58254597 | R34: =ROUND(VLOOKUP(MID($E34,4,3),'Wochentag F(WT)'!$B$7:$J$22,R$9,0),4) -> 1.0214 | S34: =ROUND(VLOOKUP(MID($E34,4,3),'Wochentag F(WT)'!$B$7:$J$22,S$9,0),4) -> 1.0866 | T34: =ROUND(VLOOKUP(MID($E34,4,3),'Wochentag F(WT)'!$B$7:$J$22,T$9,0),4) -> 1.072 | U34: =ROUND(VLOOKUP(MID($E34,4,3),'Wochentag F(WT)'!$B$7:$J$22,U$9,0),4) -> 1.0557 | V34: =ROUND(VLOOKUP(MID($E34,4,3),'Wochentag F(WT)'!$B$7:$J$22,V$9,0),4) -> 1.0117 | W34: =ROUND(VLOOKUP(MID($E34,4,3),'Wochentag F(WT)'!$B$7:$J$22,W$9,0),4) -> 0.9001 | X34: =7-SUM(R34:W34) -> 0.8525
B35: 24 | C35: =$D$6 -> Netzgebiet Leitungspartner | D35: BDEW | E35: DE_GWA04 | F35: =VLOOKUP($E35,'BDEW-Standard'!$B$3:$M$158,F$9,0) -> WA4 | H35: =ROUND(VLOOKUP($E35,'BDEW-Standard'!$B$3:$M$94,H$9,0),7) -> 1.0535875 | I35: =ROUND(VLOOKUP($E35,'BDEW-Standard'!$B$3:$M$94,I$9,0),7) -> -35.3 | J35: =ROUND(VLOOKUP($E35,'BDEW-Standard'!$B$3:$M$94,J$9,0),7) -> 4.8662747 | K35: =ROUND(VLOOKUP($E35,'BDEW-Standard'!$B$3:$M$94,K$9,0),7) -> 0.6811042 | L35: =ROUND(VLOOKUP($E35,'BDEW-Standard'!$B$3:$M$94,L$9,0),1) -> 40 | M35: =ROUND(VLOOKUP($E35,'BDEW-Standard'!$B$3:$M$158,M$9,0),7) -> 0 | N35: =ROUND(VLOOKUP($E35,'BDEW-Standard'!$B$3:$M$158,N$9,0),7) -> 0 | O35: =ROUND(VLOOKUP($E35,'BDEW-Standard'!$B$3:$M$158,O$9,0),7) -> 0 | P35: =ROUND(VLOOKUP($E35,'BDEW-Standard'!$B$3:$M$158,P$9,0),7) -> 0 | Q35: =($H35/(1+($I35/($Q$9-$L35))^$J35)+$K35)+MAX($M35*$Q$9+$N35,$O35*$Q$9+$P35) -> 1.0844349 | R35: =ROUND(VLOOKUP(MID($E35,4,3),'Wochentag F(WT)'!$B$7:$J$22,R$9,0),4) -> 1.2457 | S35: =ROUND(VLOOKUP(MID($E35,4,3),'Wochentag F(WT)'!$B$7:$J$22,S$9,0),4) -> 1.2615 | T35: =ROUND(VLOOKUP(MID($E35,4,3),'Wochentag F(WT)'!$B$7:$J$22,T$9,0),4) -> 1.2707 | U35: =ROUND(VLOOKUP(MID($E35,4,3),'Wochentag F(WT)'!$B$7:$J$22,U$9,0),4) -> 1.243 | V35: =ROUND(VLOOKUP(MID($E35,4,3),'Wochentag F(WT)'!$B$7:$J$22,V$9,0),4) -> 1.1276 | W35: =ROUND(VLOOKUP(MID($E35,4,3),'Wochentag F(WT)'!$B$7:$J$22,W$9,0),4) -> 0.3877 | X35: =7-SUM(R35:W35) -> 0.4638
B36: 25 | C36: =$D$6 -> Netzgebiet Leitungspartner
B37: 26 | C37: =$D$6 -> Netzgebiet Leitungspartner
B38: 27 | C38: =$D$6 -> Netzgebiet Leitungspartner
B39: 28 | C39: =$D$6 -> Netzgebiet Leitungspartner
B40: 29 | C40: =$D$6 -> Netzgebiet Leitungspartner
B41: 30 | C41: =$D$6 -> Netzgebiet Leitungspartner

Sheet SLP-Feiertage
B2: Feiertagskalender / Sondertage
B4: Netzbetreiber: | C4: =Netzbetreiber!$D$9 -> Leitungspartner GmbH | M4: Verwendeter Feiertagskalender bitte markieren (auch Mehrfachnennungen möglich)
B5: Netzgebiet: | C5: =Netzbetreiber!$D$28 -> Netzgebiet Leitungspartner | M5: Hinweis: Entsprechende Feiertage / Ersatztage werden grau-grün markiert
B6: MP-ID: | C6: =Netzbetreiber!$D$11 -> 9870116800003
B7: gültig ab: | C7: =Netzbetreiber!$D$6 -> 44470
M8: Vorgaben für Feiertagskalender bundesweit / bundeslandspezif / NB-individuell
M9: DE | N9: HB | O9: HH | P9: SL | Q9: BE | R9: HE | S9: NI | T9: NW | U9: BW | V9: RP | W9: SH | X9: SN | Y9: BB | Z9: BY | AA9: MV | AB9: ST | AC9: TH | AD9: NB
B10: verwendeter Feiertagskalender des Netzgebiets | D10: 2 | E10: =IF(ISERROR(HLOOKUP(E$11,$M$9:$AD$33,$D10,0)),"",HLOOKUP(E$11,$M$9:$AD$33,$D10,0)) | F10: Wochentag und entsprechender Ersatztag | M10: BRD, bundesweit | N10: Bremen | O10: Hamburg | P10: Saarland | Q10: Berlin | R10: Hessen | S10: Nieder-sachsen | T10: Nordrhein-Westfalen | U10: Baden-Württemberg | V10: Rheinland-Pfalz | W10: Schleswig-Holstein | X10: Sachsen | Y10: Brandenburg | Z10: Bayern | AA10: Mecklenburg-Vorpommern | AB10: Sachsen-Anhalt | AC10: Thüringen | AD10: NB-individuell
B11: Feiertag / Sondertag | D11: 3 | F11: Montag | G11: Dienstag | H11: Mittwoch | I11: Donnerstag | J11: Freitag | K11: Samstag | L11: Sonntag | M11: 0 | N11: 0 | O11: 0 | P11: 0 | Q11: 0 | R11: 0 | S11: 0 | T11: 0 | U11: 0 | V11: 0 | W11: 0 | X11: 0 | Y11: 0 | Z11: 0 | AA11: 0 | AB11: 0 | AC11: 0 | AD11: 1
B12: Neujahr (1.1.) | D12: 4 | E12: =MIN(SUMPRODUCT($M$11:$AD$11,M12:AD12),1) -> 1 | F12: Sonntag | G12: Sonntag | H12: Sonntag | I12: Sonntag | J12: Sonntag | K12: Sonntag | L12: Sonntag | M12: 1 | N12: 1 | O12: 1 | P12: 1 | Q12: 1 | R12: 1 | S12: 1 | T12: 1 | U12: 1 | V12: 1 | W12: 1 | X12: 1 | Y12: 1 | Z12: 1 | AA12: 1 | AB12: 1 | AC12: 1 | AD12: 1
B13: Heilige Drei Könige (6.1.) | D13: 5 | E13: =MIN(SUMPRODUCT($M$11:$AD$11,M13:AD13),1) -> 0 | F13: Sonntag | G13: Sonntag | H13: Sonntag | I13: Sonntag | J13: Sonntag | K13: Sonntag | L13: Sonntag | U13: 1 | Z13: 1 | AB13: 1
B14: Rosenmontag (-48 Tage) | D14: 6 | E14: =MIN(SUMPRODUCT($M$11:$AD$11,M14:AD14),1) -> 1 | F14: Sonntag | G14: - | H14: - | I14: - | J14: - | K14: - | L14: - | AD14: 1
B15: Fastnacht (-47 Tage) | D15: 7 | E15: =MIN(SUMPRODUCT($M$11:$AD$11,M15:AD15),1) -> 0 | F15: - | G15: Samstag | H15: - | I15: - | J15: - | K15: - | L15: -
B16: Karfreitag (-2 Tage) | D16: 8 | E16: =MIN(SUMPRODUCT($M$11:$AD$11,M16:AD16),1) -> 1 | F16: - | G16: - | H16: - | I16: - | J16: Sonntag | K16: - | L16: - | M16: 1 | N16: 1 | O16: 1 | P16: 1 | Q16: 1 | R16: 1 | S16: 1 | T16: 1 | U16: 1 | V16: 1 | W16: 1 | X16: 1 | Y16: 1 | Z16: 1 | AA16: 1 | AB16: 1 | AC16: 1 | AD16: 1
B17: Ostersonntag (0. Tag) | D17: 9 | E17: =MIN(SUMPRODUCT($M$11:$AD$11,M17:AD17),1) -> 1 | F17: - | G17: - | H17: - | I17: - | J17: - | K17: - | L17: Sonntag | M17: 1 | N17: 1 | O17: 1 | P17: 1 | Q17: 1 | R17: 1 | S17: 1 | T17: 1 | U17: 1 | V17: 1 | W17: 1 | X17: 1 | Y17: 1 | Z17: 1 | AA17: 1 | AB17: 1 | AC17: 1 | AD17: 1
B18: Ostermontag (+1 Tag) | D18: 10 | E18: =MIN(SUMPRODUCT($M$11:$AD$11,M18:AD18),1) -> 1 | F18: Sonntag | G18: - | H18: - | I18: - | J18: - | K18: - | L18: - | M18: 1 | N18: 1 | O18: 1 | P18: 1 | Q18: 1 | R18: 1 | S18: 1 | T18: 1 | U18: 1 | V18: 1 | W18: 1 | X18: 1 | Y18: 1 | Z18: 1 | AA18: 1 | AB18: 1 | AC18: 1 | AD18: 1
B19: Maifeiertag (1.5.) | D19: 11 | E19: =MIN(SUMPRODUCT($M$11:$AD$11,M19:AD19),1) -> 1 | F19: Sonntag | G19: Sonntag | H19: Sonntag | I19: Sonntag | J19: Sonntag | K19: Sonntag | L19: Sonntag | M19: 1 | N19: 1 | O19: 1 | P19: 1 | Q19: 1 | R19: 1 | S19: 1 | T19: 1 | U19: 1 | V19: 1 | W19: 1 | X19: 1 | Y19: 1 | Z19: 1 | AA19: 1 | AB19: 1 | AC19: 1 | AD19: 1
B20: Christi Himmelfahrt (+39 Tage) | D20: 12 | E20: =MIN(SUMPRODUCT($M$11:$AD$11,M20:AD20),1) -> 1 | F20: - | G20: - | H20: - | I20: Sonntag | J20: - | K20: - | L20: - | M20: 1 | N20: 1 | O20: 1 | P20: 1 | Q20: 1 | R20: 1 | S20: 1 | T20: 1 | U20: 1 | V20: 1 | W20: 1 | X20: 1 | Y20: 1 | Z20: 1 | AA20: 1 | AB20: 1 | AC20: 1 | AD20: 1
B21: Pfingstsonntag (+49 Tage) | D21: 13 | E21: =MIN(SUMPRODUCT($M$11:$AD$11,M21:AD21),1) -> 1 | F21: - | G21: - | H21: - | I21: - | J21: - | K21: - | L21: Sonntag | M21: 1 | N21: 1 | O21: 1 | P21: 1 | Q21: 1 | R21: 1 | S21: 1 | T21: 1 | U21: 1 | V21: 1 | W21: 1 | X21: 1 | Y21: 1 | Z21: 1 | AA21: 1 | AB21: 1 | AC21: 1 | AD21: 1
B22: Pfingstmontag (+50 Tage) | D22: 14 | E22: =MIN(SUMPRODUCT($M$11:$AD$11,M22:AD22),1) -> 1 | F22: Sonntag | G22: - | H22: - | I22: - | J22: - | K22: - | L22: - | M22: 1 | N22: 1 | O22: 1 | P22: 1 | Q22: 1 | R22: 1 | S22: 1 | T22: 1 | U22: 1 | V22: 1 | W22: 1 | X22: 1 | Y22: 1 | Z22: 1 | AA22: 1 | AB22: 1 | AC22: 1 | AD22: 1
B23: Fronleichnam (+59 Tage) | D23: 15 | E23: =MIN(SUMPRODUCT($M$11:$AD$11,M23:AD23),1) -> 1 | F23: - | G23: - | H23: - | I23: Sonntag | J23: - | K23: - | L23: - | P23: 1 | R23: 1 | T23: 1 | U23: 1 | V23: 1 | Z23: 1 | AD23: 1
B24: Friedensfest (8.8.) | D24: 16 | E24: =MIN(SUMPRODUCT($M$11:$AD$11,M24:AD24),1) -> 0 | F24: Sonntag | G24: Sonntag | H24: Sonntag | I24: Sonntag | J24: Sonntag | K24: Sonntag | L24: Sonntag
B25: Mariä Himmelfahrt (15.8.) | D25: 17 | E25: =MIN(SUMPRODUCT($M$11:$AD$11,M25:AD25),1) -> 0 | F25: Sonntag | G25: Sonntag | H25: Sonntag | I25: Sonntag | J25: Sonntag | K25: Sonntag | L25: Sonntag | P25: 1 | Z25: 1
B26: Tag der Dt. Einheit (3.10.) | D26: 18 | E26: =MIN(SUMPRODUCT($M$11:$AD$11,M26:AD26),1) -> 1 | F26: Sonntag | G26: Sonntag | H26: Sonntag | I26: Sonntag | J26: Sonntag | K26: Sonntag | L26: Sonntag | M26: 1 | N26: 1 | O26: 1 | P26: 1 | Q26: 1 | R26: 1 | S26: 1 | T26: 1 | U26: 1 | V26: 1 | W26: 1 | X26: 1 | Y26: 1 | Z26: 1 | AA26: 1 | AB26: 1 | AC26: 1 | AD26: 1
B27: Reformationstag (31.10.) | D27: 19 | E27: =MIN(SUMPRODUCT($M$11:$AD$11,M27:AD27),1) -> 0 | F27: Sonntag | G27: Sonntag | H27: Sonntag | I27: Sonntag | J27: Sonntag | K27: Sonntag | L27: Sonntag | X27: 1 | Y27: 1 | AA27: 1 | AB27: 1 | AC27: 1
B28: Allerheiligen (1.11.) | D28: 20 | E28: =MIN(SUMPRODUCT($M$11:$AD$11,M28:AD28),1) -> 1 | F28: Sonntag | G28: Sonntag | H28: Sonntag | I28: Sonntag | J28: Sonntag | K28: Sonntag | L28: Sonntag | P28: 1 | T28: 1 | U28: 1 | V28: 1 | Z28: 1 | AD28: 1
B29: Buß- und Bettag (Mi. v. 23.11.) | D29: 21 | E29: =MIN(SUMPRODUCT($M$11:$AD$11,M29:AD29),1) -> 0 | F29: - | G29: - | H29: Sonntag | I29: - | J29: - | K29: - | L29: - | X29: 1
B30: Heilig Abend (24.12.) | D30: 22 | E30: =MIN(SUMPRODUCT($M$11:$AD$11,M30:AD30),1) -> 1 | F30: Samstag | G30: Samstag | H30: Samstag | I30: Samstag | J30: Samstag | K30: Samstag | L30: Sonntag | AD30: 1
B31: 1. Weihnachtstag (25.12.) | D31: 23 | E31: =MIN(SUMPRODUCT($M$11:$AD$11,M31:AD31),1) -> 1 | F31: Sonntag | G31: Sonntag | H31: Sonntag | I31: Sonntag | J31: Sonntag | K31: Sonntag | L31: Sonntag | M31: 1 | N31: 1 | O31: 1 | P31: 1 | Q31: 1 | R31: 1 | S31: 1 | T31: 1 | U31: 1 | V31: 1 | W31: 1 | X31: 1 | Y31: 1 | Z31: 1 | AA31: 1 | AB31: 1 | AC31: 1 | AD31: 1
B32: 2. Weihnachtstag (26.12.) | D32: 24 | E32: =MIN(SUMPRODUCT($M$11:$AD$11,M32:AD32),1) -> 1 | F32: Sonntag | G32: Sonntag | H32: Sonntag | I32: Sonntag | J32: Sonntag | K32: Sonntag | L32: Sonntag | M32: 1 | N32: 1 | O32: 1 | P32: 1 | Q32: 1 | R32: 1 | S32: 1 | T32: 1 | U32: 1 | V32: 1 | W32: 1 | X32: 1 | Y32: 1 | Z32: 1 | AA32: 1 | AB32: 1 | AC32: 1 | AD32: 1
B33: Silvester (31.12.) | D33: 25 | E33: =MIN(SUMPRODUCT($M$11:$AD$11,M33:AD33),1) -> 1 | F33: Samstag | G33: Samstag | H33: Samstag | I33: Samstag | J33: Samstag | K33: Samstag | L33: Sonntag | AD33: 1

Sheet BDEW-Standard
A1: Stand: | B1: 42173 | D1: BDEW Standardlastprofile - SLP-Koef. | F1: hier keine Eintragungen / Veränderungen vornehmen !
A2: Quelle | B2: BDEW Nomenklatur | C2: EDI-CODE | D2: Profilname | E2: A | F2: B | G2: C | H2: D | I2: J0 | J2: m_H | K2: b_H | L2: m_W | M2: b_W
A3: =IF(MID(D3,1,8)="SigLinDe","SLP-FfE","SLP-TUM") -> SLP-TUM | B3: ="DE_"&IF(A3="SLP-TUM",MID(D3,5,4)&RIGHT(D3,1),"")&IF(A3="SLP-FfE",MID(#REF!,5,3)&"3"&RIGHT(#REF!,1),"") -> DE_HEF03 | C3: =IF(A3="SLP-TUM",LEFT(D3,3),"")&IF(A3="SLP-FfE",MID(#REF!,2,1)&MID(#REF!,1,1)&MID(#REF!,3,1),"") -> D13 | D3: D13/HEF03 | E3: 3.0469695 | F3: -37.183314 | G3: 5.6727847 | H3: 0.09619306 | I3: 40 | J3: 0 | K3: 0 | L3: 0 | M3: 0
A4: =IF(MID(D4,1,8)="SigLinDe","SLP-FfE","SLP-TUM") -> SLP-TUM | B4: ="DE_"&IF(A4="SLP-TUM",MID(D4,5,4)&RIGHT(D4,1),"")&IF(A4="SLP-FfE",MID(D1,5,3)&"3"&RIGHT(D1,1),"") -> DE_HEF04 | C4: =IF(A4="SLP-TUM",LEFT(D4,3),"")&IF(A4="SLP-FfE",MID(D1,2,1)&MID(D1,1,1)&MID(D1,3,1),"") -> D14 | D4: D14/HEF04 | E4: 3.1850191 | F4: -37.412415 | G4: 6.1723179 | H4: 0.076109594 | I4: 40 | J4: 0 | K4: 0 | L4: 0 | M4: 0
A5: =IF(MID(D5,1,8)="SigLinDe","SLP-FfE","SLP-TUM") -> SLP-TUM | B5: ="DE_"&IF(A5="SLP-TUM",MID(D5,5,4)&RIGHT(D5,1),"")&IF(A5="SLP-FfE",MID(D2,5,3)&"3"&RIGHT(D2,1),"") -> DE_HEF05 | C5: =IF(A5="SLP-TUM",LEFT(D5,3),"")&IF(A5="SLP-FfE",MID(D2,2,1)&MID(D2,1,1)&MID(D2,3,1),"") -> D15 | D5: D15/HEF05 | E5: 3.3456667 | F5: -37.526832 | G5: 6.4328937 | H5: 0.056256618 | I5: 40 | J5: 0 | K5: 0 | L5: 0 | M5: 0
A6: =IF(MID(D6,1,8)="SigLinDe","SLP-FfE","SLP-TUM") -> SLP-FfE | B6: ="DE_"&IF(A6="SLP-TUM",MID(D6,5,4)&RIGHT(D6,1),"")&IF(A6="SLP-FfE",MID(D3,5,3)&"3"&RIGHT(D3,1),"") -> DE_HEF33 | C6: =IF(A6="SLP-TUM",LEFT(D6,3),"")&IF(A6="SLP-FfE",MID(D3,2,1)&MID(D3,1,1)&MID(D3,3,1),"") -> 1D3 | D6: SigLinDe FfE/'HEF03' | E6: 1.6209544 | F6: -37.183314 | G6: 5.6727847 | H6: 0.071643118 | I6: 40 | J6: -0.049570016 | K6: 0.84010146 | L6: -0.0022090265 | M6: 0.1074468
A7: =IF(MID(D7,1,8)="SigLinDe","SLP-FfE","SLP-TUM") -> SLP-FfE | B7: ="DE_"&IF(A7="SLP-TUM",MID(D7,5,4)&RIGHT(D7,1),"")&IF(A7="SLP-FfE",MID(D4,5,3)&"3"&RIGHT(D4,1),"") -> DE_HEF34 | C7: =IF(A7="SLP-TUM",LEFT(D7,3),"")&IF(A7="SLP-FfE",MID(D4,2,1)&MID(D4,1,1)&MID(D4,3,1),"") -> 1D4 | D7: SigLinDe FfE/'HEF04' | E7: 1.3819663 | F7: -37.412415 | G7: 6.1723179 | H7: 0.039628356 | I7: 40 | J7: -0.067215873 | K7: 1.1167138 | L7: -0.0019981648 | M7: 0.13550697
A8: =IF(MID(D8,1,8)="SigLinDe","SLP-FfE","SLP-TUM") -> SLP-TUM | B8: ="DE_"&IF(A8="SLP-TUM",MID(D8,5,4)&RIGHT(D8,1),"")&IF(A8="SLP-FfE",MID(D5,5,3)&"3"&RIGHT(D5,1),"") -> DE_HMF03 | C8: =IF(A8="SLP-TUM",LEFT(D8,3),"")&IF(A8="SLP-FfE",MID(D5,2,1)&MID(D5,1,1)&MID(D5,3,1),"") -> D23 | D8: D23/HMF03 | E8: 2.3877618 | F8: -34.721361 | G8: 5.8164304 | H8: 0.12081937 | I8: 40 | J8: 0 | K8: 0 | L8: 0 | M8: 0
A9: =IF(MID(D9,1,8)="SigLinDe","SLP-FfE","SLP-TUM") -> SLP-TUM | B9: ="DE_"&IF(A9="SLP-TUM",MID(D9,5,4)&RIGHT(D9,1),"")&IF(A9="SLP-FfE",MID(D6,5,3)&"3"&RIGHT(D6,1),"") -> DE_HMF04 | C9: =IF(A9="SLP-TUM",LEFT(D9,3),"")&IF(A9="SLP-FfE",MID(D6,2,1)&MID(D6,1,1)&MID(D6,3,1),"") -> D24 | D9: D24/HMF04 | E9: 2.5187775 | F9: -35.033375 | G9: 6.2240634 | H9: 0.10107817 | I9: 40 | J9: 0 | K9: 0 | L9: 0 | M9: 0
A10: =IF(MID(D10,1,8)="SigLinDe","SLP-FfE","SLP-TUM") -> SLP-TUM | B10: ="DE_"&IF(A10="SLP-TUM",MID(D10,5,4)&RIGHT(D10,1),"")&IF(A10="SLP-FfE",MID(D7,5,3)&"3"&RIGHT(D7,1),"") -> DE_HMF05 | C10: =IF(A10="SLP-TUM",LEFT(D10,3),"")&IF(A10="SLP-FfE",MID(D7,2,1)&MID(D7,1,1)&MID(D7,3,1),"") -> D25 | D10: D25/HMF05 | E10: 2.6564406 | F10: -35.251693 | G10: 6.5182659 | H10: 0.081205866 | I10: 40 | J10: 0 | K10: 0 | L10: 0 | M10: 0
A11: =IF(MID(D11,1,8)="SigLinDe","SLP-FfE","SLP-TUM") -> SLP-FfE | B11: ="DE_"&IF(A11="SLP-TUM",MID(D11,5,4)&RIGHT(D11,1),"")&IF(A11="SLP-FfE",MID(D8,5,3)&"3"&RIGHT(D8,1),"") -> DE_HMF33 | C11: =IF(A11="SLP-TUM",LEFT(D11,3),"")&IF(A11="SLP-FfE",MID(D8,2,1)&MID(D8,1,1)&MID(D8,3,1),"") -> 2D3 | D11: SigLinDe FfE/'HMF03' | E11: 1.2328655 | F11: -34.721361 | G11: 5.8164304 | H11: 0.087335193 | I11: 40 | J11: -0.040928399 | K11: 0.76729204 | L11: -0.0022320274 | M11: 0.11992072
A12: =IF(MID(D12,1,8)="SigLinDe","SLP-FfE","SLP-TUM") -> SLP-FfE | B12: ="DE_"&IF(A12="SLP-TUM",MID(D12,5,4)&RIGHT(D12,1),"")&IF(A12="SLP-FfE",MID(D9,5,3)&"3"&RIGHT(D9,1),"") -> DE_HMF34 | C12: =IF(A12="SLP-TUM",LEFT(D12,3),"")&IF(A12="SLP-FfE",MID(D9,2,1)&MID(D9,1,1)&MID(D9,3,1),"") -> 2D4 | D12: SigLinDe FfE/'HMF04' | E12: 1.0443538 | F12: -35.033375 | G12: 6.2240634 | H12: 0.050291716 | I12: 40 | J12: -0.053583022 | K12: 0.99959009 | L12: -0.0021758448 | M12: 0.16332988
A13: =IF(MID(D13,1,8)="SigLinDe","SLP-FfE","SLP-TUM") -> SLP-TUM | B13: ="DE_"&IF(A13="SLP-TUM",MID(D13,5,4)&RIGHT(D13,1),"")&IF(A13="SLP-FfE",MID(D10,5,3)&"3"&RIGHT(D10,1),"") -> DE_HKO03 | C13: =IF(A13="SLP-TUM",LEFT(D13,3),"")&IF(A13="SLP-FfE",MID(D10,2,1)&MID(D10,1,1)&MID(D10,3,1),"") -> HK3 | D13: HK3/HKO03 | E13: 0.4040932 | F13: -24.439297 | G13: 6.5718175 | H13: 0.710771 | I13: 40 | J13: 0 | K13: 0 | L13: 0 | M13: 0
A14: =IF(MID(D14,1,8)="SigLinDe","SLP-FfE","SLP-TUM") -> SLP-TUM | B14: ="DE_"&IF(A14="SLP-TUM",MID(D14,5,4)&RIGHT(D14,1),"")&IF(A14="SLP-FfE",MID(D11,5,3)&"3"&RIGHT(D11,1),"") -> DE_GMK01 | C14: =IF(A14="SLP-TUM",LEFT(D14,3),"")&IF(A14="SLP-FfE",MID(D11,2,1)&MID(D11,1,1)&MID(D11,3,1),"") -> MK1 | D14: MK1/GMK01 | E14: 1.8644534 | F14: -30.707163 | G14: 6.4626937 | H14: 0.10483387 | I14: 40 | J14: 0 | K14: 0 | L14: 0 | M14: 0
A15: =IF(MID(D15,1,8)="SigLinDe","SLP-FfE","SLP-TUM") -> SLP-TUM | B15: ="DE_"&IF(A15="SLP-TUM",MID(D15,5,4)&RIGHT(D15,1),"")&IF(A15="SLP-FfE",MID(D12,5,3)&"3"&RIGHT(D12,1),"") -> DE_GMK02 | C15: =IF(A15="SLP-TUM",LEFT(D15,3),"")&IF(A15="SLP-FfE",MID(D12,2,1)&MID(D12,1,1)&MID(D12,3,1),"") -> MK2 | D15: MK2/GMK02 | E15: 2.2908184 | F15: -33.147687 | G15: 6.3714765 | H15: 0.081002321 | I15: 40 | J15: 0 | K15: 0 | L15: 0 | M15: 0
... A92: =IF(MID(D92,1,8)="SigLinDe","SLP-FfE","SLP-TUM") -> SLP-TUM | B92: ="DE_"&IF(A92="SLP-TUM",MID(D92,5,4)&RIGHT(D92,1),"")&IF(A92="SLP-FfE",MID(D89,5,3)&"3"&RIGHT(D89,1),"") -> DE_GHD04 | C92: =IF(A92="SLP-TUM",LEFT(D92,3),"")&IF(A92="SLP-FfE",MID(D89,2,1)&MID(D89,1,1)&MID(D89,3,1),"") -> HD4 | D92: HD4/GHD04 | E92: 3.0084346 | F92: -36.607845 | G92: 7.321187 | H92: 0.15496603 | I92: 40 | J92: 0 | K92: 0 | L92: 0 | M92: 0
A93: =IF(MID(D93,1,8)="SigLinDe","SLP-FfE","SLP-TUM") -> SLP-FfE | B93: ="DE_"&IF(A93="SLP-TUM",MID(D93,5,4)&RIGHT(D93,1),"")&IF(A93="SLP-FfE",MID(D91,5,3)&"3"&RIGHT(D91,1),"") -> DE_GHD33 | C93: =IF(A93="SLP-TUM",LEFT(D93,3),"")&IF(A93="SLP-FfE",MID(D91,2,1)&MID(D91,1,1)&MID(D91,3,1),"") -> DH3 | D93: SigLinDe FfE/'GHD03' | E93: 1.3010623 | F93: -35.681614 | G93: 6.6857976 | H93: 0.14092667 | I93: 40 | J93: -0.047342809 | K93: 0.81416913 | L93: -0.0010600644 | M93: 0.13250921
A94: =IF(MID(D94,1,8)="SigLinDe","SLP-FfE","SLP-TUM") -> SLP-FfE | B94: ="DE_"&IF(A94="SLP-TUM",MID(D94,5,4)&RIGHT(D94,1),"")&IF(A94="SLP-FfE",MID(D92,5,3)&"3"&RIGHT(D92,1),"") -> DE_GHD34 | C94: =IF(A94="SLP-TUM",LEFT(D94,3),"")&IF(A94="SLP-FfE",MID(D92,2,1)&MID(D92,1,1)&MID(D92,3,1),"") -> DH4 | D94: SigLinDe FfE/'GHD04' | E94: 1.25696 | F94: -36.607845 | G94: 7.321187 | H94: 0.077695999 | I94: 40 | J94: -0.069682598 | K94: 1.1379702 | L94: -0.00085220022 | M94: 0.19210676
A95: SLP-TUM | B95: BB_HEF03 | C95: R13 | D95: Bundeslandprofil | E95: 3.0217399 | F95: -37.18236 | G95: 5.647717 | H95: 0.11523876 | I95: 40 | J95: 0 | K95: 0 | L95: 0 | M95: 0
A96: SLP-TUM | B96: BB_HEF04 | C96: R14 | D96: Bundeslandprofil | E96: 3.159294 | F96: -37.406886 | G96: 6.1418926 | H96: 0.092266111 | I96: 40 | J96: 0 | K96: 0 | L96: 0 | M96: 0
A97: SLP-TUM | B97: BB_HMF03 | C97: R23 | D97: Bundeslandprofil | E97: 2.3548083 | F97: -34.71503 | G97: 5.8675639 | H97: 0.15092743 | I97: 40 | J97: 0 | K97: 0 | L97: 0 | M97: 0
A98: SLP-TUM | B98: BB_HMF04 | C98: R24 | D98: Bundeslandprofil | E98: 2.4859161 | F98: -35.043598 | G98: 6.2818214 | H98: 0.12839042 | I98: 40 | J98: 0 | K98: 0 | L98: 0 | M98: 0
A99: SLP-TUM | B99: BE_HEF03 | C99: B13 | D99: Bundeslandprofil | E99: 3.0553842 | F99: -37.183637 | G99: 5.6810825 | H99: 0.10016998 | I99: 40 | J99: 0 | K99: 0 | L99: 0 | M99: 0
A100: SLP-TUM | B100: BE_HEF04 | C100: B14 | D100: Bundeslandprofil | E100: 3.1935978 | F100: -37.414248 | G100: 6.1824021 | H100: 0.078921271 | I100: 40 | J100: 0 | K100: 0 | L100: 0 | M100: 0
A101: SLP-TUM | B101: BE_HMF03 | C101: B23 | D101: Bundeslandprofil | E101: 2.3987552 | F101: -34.723488 | G101: 5.7996446 | H101: 0.12390732 | I101: 40 | J101: 0 | K101: 0 | L101: 0 | M101: 0
A102: SLP-TUM | B102: BE_HMF04 | C102: B24 | D102: Bundeslandprofil | E102: 2.529738 | F102: -35.030015 | G102: 6.2051109 | H102: 0.10300644 | I102: 40 | J102: 0 | K102: 0 | L102: 0 | M102: 0
A103: SLP-TUM | B103: BW_HEF03 | C103: W13 | D103: Bundeslandprofil | E103: 3.0385547 | F103: -37.182991 | G103: 5.6644869 | H103: 0.095584451 | I103: 40 | J103: 0 | K103: 0 | L103: 0 | M103: 0
A104: SLP-TUM | B104: BW_HEF04 | C104: W14 | D104: Bundeslandprofil | E104: 3.1764404 | F104: -37.410583 | G104: 6.1622336 | H104: 0.07593772 | I104: 40 | J104: 0 | K104: 0 | L104: 0 | M104: 0
A105: SLP-TUM | B105: BW_HMF03 | C105: W23 | D105: Bundeslandprofil | E105: 2.3767684 | F105: -34.719233 | G105: 5.8332162 | H105: 0.1218182 | I105: 40 | J105: 0 | K105: 0 | L105: 0 | M105: 0
A106: SLP-TUM | B106: BW_HMF04 | C106: W24 | D106: Bundeslandprofil | E106: 2.507817 | F106: -35.036736 | G106: 6.2430159 | H106: 0.10251952 | I106: 40 | J106: 0 | K106: 0 | L106: 0 | M106: 0
... A158: SLP-TUM | B158: TH_HMF04 | C158: T24 | D158: Bundeslandprofil | E158: 2.4859161 | F158: -35.043598 | G158: 6.2818214 | H158: 0.13042621 | I158: 40 | J158: 0 | K158: 0 | L158: 0 | M158: 0

Sheet Wochentag F(WT)
A1: BDEW Standardlastprofile - WT-Koef. | D1: hier keine Eintragungen / Veränderungen vornehmen !
B2: Wochentagfaktoren gemäß TUM
A3: # | B3: Bezeichnung | D3: Wochentagfaktoren
D4: F(Mo) | E4: F(Di) | F4: F(Mi) | G4: F(Do) | H4: F(Fr) | I4: F(Sa) | J4: F(So)
B5: Tag | D5: Mo | E5: Di | F5: Mi | G5: Do | H5: Fr | I5: Sa | J5: So | K5: Mo-So | L5: Max Tag | M5: Max Wert | N5: Profil-Art | O5: H/N-Profil | P5: Alternative Profilempfehlung
B6: 1 | C6: 2 | D6: 3 | E6: 4 | F6: 5 | G6: 6 | H6: 7 | I6: 8 | J6: 9 | K6: 10 | L6: 11 | M6: 12
A7: 1 | B7: HEF | C7: Einfamilienhaushalt | D7: 1 | E7: 1 | F7: 1 | G7: 1 | H7: 1 | I7: 1 | J7: 1 | K7: 1 | L7: Mo-So | M7: =MAX(D7:J7) -> 1 | N7: Heizgas
A8: 2 | B8: HMF | C8: Mehrfamilienhaushalt | D8: 1 | E8: 1 | F8: 1 | G8: 1 | H8: 1 | I8: 1 | J8: 1 | K8: 1 | L8: Mo-So | M8: =MAX(D8:J8) -> 1 | N8: Heizgas
A9: 3 | B9: HKO | C9: Kochgas | D9: 1 | E9: 1 | F9: 1 | G9: 1 | H9: 1 | I9: 1 | J9: 1 | K9: 1 | L9: Mo-So | M9: =MAX(D9:J9) -> 1 | N9: Kochgas
A11: 4 | B11: GKO | C11: Gebietskörpersch., Kreditinst. u. Versich., Org. o. Erwerbszw. & öff. Einr. | D11: 1.0353907 | E11: 1.0522627 | F11: 1.0449305 | G11: 1.0493599 | H11: 0.98845975 | I11: 0.88600564 | J11: 0.9435909 | K11: 1 | L11: Di | M11: =MAX(D11:J11) -> 1.0522627 | N11: Gewerbe | O11: Hauptprofil
A12: 5 | B12: GHA | C12: Einzelhandel, Großhandel | D12: 1.035847 | E12: 1.0231652 | F12: 1.0252246 | G12: 1.0295354 | H12: 1.0252886 | I12: 0.96749527 | J12: 0.89344394 | K12: 1 | L12: Mo | M12: =MAX(D12:J12) -> 1.035847 | N12: Gewerbe | O12: Hauptprofil
A13: 6 | B13: GMK | C13: Metall, Kfz | D13: 1.0698566 | E13: 1.0365322 | F13: 0.99325572 | G13: 0.99478285 | H13: 1.0658709 | I13: 0.93624497 | J13: 0.90345681 | K13: 1 | L13: Mo | M13: =MAX(D13:J13) -> 1.0698566 | N13: Gewerbe | O13: Hauptprofil
A14: 7 | B14: GBD | C14: sonst. betr. Dienstleistungen | D14: 1.1052462 | E14: 1.0857013 | F14: 1.0377708 | G14: 1.0621551 | H14: 1.0265803 | I14: 0.76289468 | J14: 0.89799123 | K14: 1 | L14: Mo | M14: =MAX(D14:J14) -> 1.1052462 | N14: Gewerbe | O14: Hauptprofil
A15: 8 | B15: GBH | C15: Beherbergung | D15: 0.97669401 | E15: 1.0389447 | F15: 1.0028244 | G15: 1.0161946 | H15: 1.0023538 | I15: 1.0043298 | J15: 0.95836706 | K15: 1 | L15: Di | M15: =MAX(D15:J15) -> 1.0389447 | N15: Gewerbe | O15: Hauptprofil
A16: 9 | B16: GWA | C16: Wäschereien | D16: 1.2457483 | E16: 1.2614994 | F16: 1.2706602 | G16: 1.2430339 | H16: 1.1276335 | I16: 0.38766184 | J16: 0.4615442 | K16: 1 | L16: Mi | M16: =MAX(D16:J16) -> 1.2706602 | N16: Gewerbe | O16: Hauptprofil
A17: 10 | B17: GGA | C17: Gaststätten | D17: 0.93224742 | E17: 0.98942188 | F17: 1.0033248 | G17: 1.0108927 | H17: 1.0179737 | I17: 1.0355882 | J17: 1.0090729 | K17: 1 | L17: Sa | M17: =MAX(D17:J17) -> 1.0355882 | N17: Gewerbe | O17: Nebenprofil | P17: GBH
A18: 11 | B18: GBA | C18: Bäckereien | D18: 1.0847669 | E18: 1.1211172 | F18: 1.0769491 | G18: 1.1353121 | H18: 1.1401797 | I18: 0.48522457 | J18: 0.95842228 | K18: 1 | L18: Fr | M18: =MAX(D18:J18) -> 1.1401797 | N18: Gewerbe | O18: Nebenprofil | P18: GWA
A19: 12 | B19: GGB | C19: Gartenbau | D19: 0.98966305 | E19: 0.96273608 | F19: 1.0507108 | G19: 1.0552347 | H19: 1.0297033 | I19: 0.97667108 | J19: 0.93598879 | K19: 1 | L19: Do | M19: =MAX(D19:J19) -> 1.0552347 | N19: Gewerbe | O19: Nebenprofil | P19: GKO
A20: 13 | B20: GPD | C20: Papier und Druck | D20: 1.0213513 | E20: 1.0865859 | F20: 1.0719709 | G20: 1.0557448 | H20: 1.0116674 | I20: 0.90014245 | J20: 0.8511495 | K20: 1 | L20: Mo | M20: =MAX(D20:J20) -> 1.0865859 | N20: Gewerbe | O20: Nebenprofil | P20: GHA
A21: 14 | B21: GMF | C21: haushaltsähnliche Gewerbebetriebe | D21: =D11 -> 1.0353907 | E21: =E11 -> 1.0522627 | F21: =F11 -> 1.0449305 | G21: =G11 -> 1.0493599 | H21: =H11 -> 0.98845975 | I21: =I11 -> 0.88600564 | J21: =J11 -> 0.9435909 | K21: =K11 -> 1 | L21: Di | M21: =MAX(D21:J21) -> 1.0522627 | N21: Gewerbe | O21: Nebenprofil | P21: GBH
A22: 15 | B22: GHD | C22: Summenlastprofil Gewerbe, Handel, Dienstleistung | D22: 1.03 | E22: 1.03 | F22: 1.02 | G22: 1.03 | H22: 1.01 | I22: 0.93 | J22: 0.94 | K22: =K12 -> 1 | L22: Di | M22: =MAX(D22:J22) -> 1.03 | N22: Gewerbe | O22: Nebenprofil
